BEGIN:VCALENDAR
VERSION:2.0
PRODID:-//The Club at Inverness | Golf, Tennis, Dining, Fitness, Spa &amp; Social Events - ECPv6.15.11//NONSGML v1.0//EN
CALSCALE:GREGORIAN
METHOD:PUBLISH
X-ORIGINAL-URL:https://theclubatinverness.com
X-WR-CALDESC:Events for The Club at Inverness | Golf, Tennis, Dining, Fitness, Spa &amp; Social Events
REFRESH-INTERVAL;VALUE=DURATION:PT1H
X-Robots-Tag:noindex
X-PUBLISHED-TTL:PT1H
BEGIN:VTIMEZONE
TZID:America/Denver
BEGIN:DAYLIGHT
TZOFFSETFROM:-0700
TZOFFSETTO:-0600
TZNAME:MDT
DTSTART:20200308T090000
END:DAYLIGHT
BEGIN:STANDARD
TZOFFSETFROM:-0600
TZOFFSETTO:-0700
TZNAME:MST
DTSTART:20201101T080000
END:STANDARD
BEGIN:DAYLIGHT
TZOFFSETFROM:-0700
TZOFFSETTO:-0600
TZNAME:MDT
DTSTART:20210314T090000
END:DAYLIGHT
BEGIN:STANDARD
TZOFFSETFROM:-0600
TZOFFSETTO:-0700
TZNAME:MST
DTSTART:20211107T080000
END:STANDARD
BEGIN:DAYLIGHT
TZOFFSETFROM:-0700
TZOFFSETTO:-0600
TZNAME:MDT
DTSTART:20220313T090000
END:DAYLIGHT
BEGIN:STANDARD
TZOFFSETFROM:-0600
TZOFFSETTO:-0700
TZNAME:MST
DTSTART:20221106T080000
END:STANDARD
END:VTIMEZONE
BEGIN:VEVENT
DTSTART;TZID=America/Denver:20210404T093000
DTEND;TZID=America/Denver:20210404T143000
DTSTAMP:20260422T212916
CREATED:20210312T170101Z
LAST-MODIFIED:20210326T211806Z
UID:3841-1617528600-1617546600@theclubatinverness.com
SUMMARY:Easter Brunch
DESCRIPTION:Join us on Easter Sunday for a personalized brunch experience! To book a reservation\, call our Restaurant Reservation line directly at 303-397-6411.
URL:https://theclubatinverness.com/event/easter-brunch/
LOCATION:Hilton Denver Inverness\, 200 Inverness Dr W\, Englewood\, CO\, 80112\, United States
END:VEVENT
BEGIN:VEVENT
DTSTART;TZID=America/Denver:20210406T173000
DTEND;TZID=America/Denver:20210406T193000
DTSTAMP:20260422T212916
CREATED:20210322T190204Z
LAST-MODIFIED:20210322T190204Z
UID:3847-1617730200-1617737400@theclubatinverness.com
SUMMARY:Club Connect
DESCRIPTION:
URL:https://theclubatinverness.com/event/club-connect-2/
LOCATION:The Club at Inverness\, 200 Inverness Drive West Suite 100\, Englewood\, CO\, 80112\, United States
END:VEVENT
BEGIN:VEVENT
DTSTART;VALUE=DATE:20210408
DTEND;VALUE=DATE:20210412
DTSTAMP:20260422T212916
CREATED:20210326T214246Z
LAST-MODIFIED:20210326T230241Z
UID:3882-1617840000-1618185599@theclubatinverness.com
SUMMARY:The Masters
DESCRIPTION:To celebrate\, Breckenridge Brewery will be running Masters themed food & drink specials beginning Thursday\, April 8th through Sunday\, April 11th from open to close. \nFEATURED SPECIALS\n+ Pimento Cheese Sandwich\n+ Egg Salad Sandwich\n+ BBQ Brisket Sandwich\n+ Fried Chicken Biscuit Sandwich\n+ Peach Ice Cream Sandwich\n+ Chocolate Chip Cookie \n+ John Daley Cocktail\n+ Azalea Cocktail  \nWe will be broadcasting The Masters based on the following schedule\, but please make sure to check your Masters app for any updates beyond what we have noted here. \nThursday\, 1:00pm – 5:30pm – On ESPN • Breckenridge will be open 11am – 11pm (last call 10:30pm\, food until 9pm)\nFriday\, 1:00pm – 5:30pm – On ESPN • Breckenridge will be open 11am – 12am (last call 11:30pm\, food until 10pm)\nSaturday\, 1:00pm – 5:00pm – On CBS • Breckenridge will be open 11am – 12am (last call 11:30pm\, food until 10pm)\nSunday\, 12:00pm – 5:00pm – On CBS • Breckenridge will be open 11am – 11pm (last call 10:30pm\, food until 9pm)
URL:https://theclubatinverness.com/event/the-masters-2-3-2/
LOCATION:Aspen Terrace\, 200 Inverness Drive West\, Englewood\, CO\, 80112
CATEGORIES:Breckenridge Brewery Ale & Game House,Social
END:VEVENT
END:VCALENDAR