BEGIN:VCALENDAR
VERSION:2.0
PRODID:-//The Club at Inverness | Golf, Tennis, Dining, Fitness, Spa &amp; Social Events - ECPv6.15.11//NONSGML v1.0//EN
CALSCALE:GREGORIAN
METHOD:PUBLISH
X-ORIGINAL-URL:https://theclubatinverness.com
X-WR-CALDESC:Events for The Club at Inverness | Golf, Tennis, Dining, Fitness, Spa &amp; Social Events
REFRESH-INTERVAL;VALUE=DURATION:PT1H
X-Robots-Tag:noindex
X-PUBLISHED-TTL:PT1H
BEGIN:VTIMEZONE
TZID:America/Denver
BEGIN:DAYLIGHT
TZOFFSETFROM:-0700
TZOFFSETTO:-0600
TZNAME:MDT
DTSTART:20210314T090000
END:DAYLIGHT
BEGIN:STANDARD
TZOFFSETFROM:-0600
TZOFFSETTO:-0700
TZNAME:MST
DTSTART:20211107T080000
END:STANDARD
BEGIN:DAYLIGHT
TZOFFSETFROM:-0700
TZOFFSETTO:-0600
TZNAME:MDT
DTSTART:20220313T090000
END:DAYLIGHT
BEGIN:STANDARD
TZOFFSETFROM:-0600
TZOFFSETTO:-0700
TZNAME:MST
DTSTART:20221106T080000
END:STANDARD
BEGIN:DAYLIGHT
TZOFFSETFROM:-0700
TZOFFSETTO:-0600
TZNAME:MDT
DTSTART:20230312T090000
END:DAYLIGHT
BEGIN:STANDARD
TZOFFSETFROM:-0600
TZOFFSETTO:-0700
TZNAME:MST
DTSTART:20231105T080000
END:STANDARD
END:VTIMEZONE
BEGIN:VEVENT
DTSTART;VALUE=DATE:20220211
DTEND;VALUE=DATE:20220213
DTSTAMP:20260423T154334
CREATED:20220118T211936Z
LAST-MODIFIED:20220118T211936Z
UID:4709-1644537600-1644710399@theclubatinverness.com
SUMMARY:Celebrate the Love at Inverness
DESCRIPTION:  \n  \n  \n  \n  \n  \n  \n  \n  \n  \n  \n  \n\n  \n  \n  \n  \n  \n  \n  \nIf you are a Member of The Club at Inverness and you would like to inquire about rates for this special offer\, please email \nreservations@invernessdenver.com with your full name\, member number and dates of inquiry! 
URL:https://theclubatinverness.com/event/celebrate-the-love-at-inverness-2/
LOCATION:Hilton Denver Inverness\, 200 Inverness Dr W\, Englewood\, CO\, 80112\, United States
CATEGORIES:Fireside Bar & Grill,Group,Social
END:VEVENT
BEGIN:VEVENT
DTSTART;VALUE=DATE:20220211
DTEND;VALUE=DATE:20220215
DTSTAMP:20260423T154334
CREATED:20220118T211448Z
LAST-MODIFIED:20220118T211448Z
UID:4702-1644537600-1644883199@theclubatinverness.com
SUMMARY:Celebrate the Love at The Spa at Inverness
DESCRIPTION:
URL:https://theclubatinverness.com/event/celebrate-the-love-at-the-spa-at-inverness/
LOCATION:The Spa\, 200 Inverness Drive West\, Englewood\, CO\, 80112\, United States
CATEGORIES:Ladies,Social,Spa
END:VEVENT
BEGIN:VEVENT
DTSTART;VALUE=DATE:20220218
DTEND;VALUE=DATE:20220220
DTSTAMP:20260423T154334
CREATED:20220118T211951Z
LAST-MODIFIED:20220118T211951Z
UID:4711-1645142400-1645315199@theclubatinverness.com
SUMMARY:Celebrate the Love at Inverness
DESCRIPTION:  \n  \n  \n  \n  \n  \n  \n  \n  \n  \n  \n  \n\n  \n  \n  \n  \n  \n  \n  \nIf you are a Member of The Club at Inverness and you would like to inquire about rates for this special offer\, please email \nreservations@invernessdenver.com with your full name\, member number and dates of inquiry! 
URL:https://theclubatinverness.com/event/celebrate-the-love-at-inverness-2-2/
LOCATION:Hilton Denver Inverness\, 200 Inverness Dr W\, Englewood\, CO\, 80112\, United States
CATEGORIES:Fireside Bar & Grill,Group,Social
END:VEVENT
BEGIN:VEVENT
DTSTART;VALUE=DATE:20220225
DTEND;VALUE=DATE:20220227
DTSTAMP:20260423T154334
CREATED:20220118T212008Z
LAST-MODIFIED:20220118T212008Z
UID:4713-1645747200-1645919999@theclubatinverness.com
SUMMARY:Celebrate the Love at Inverness
DESCRIPTION:  \n  \n  \n  \n  \n  \n  \n  \n  \n  \n  \n  \n\n  \n  \n  \n  \n  \n  \n  \nIf you are a Member of The Club at Inverness and you would like to inquire about rates for this special offer\, please email \nreservations@invernessdenver.com with your full name\, member number and dates of inquiry! 
URL:https://theclubatinverness.com/event/celebrate-the-love-at-inverness-2-2-2/
LOCATION:Hilton Denver Inverness\, 200 Inverness Dr W\, Englewood\, CO\, 80112\, United States
CATEGORIES:Fireside Bar & Grill,Group,Social
END:VEVENT
BEGIN:VEVENT
DTSTART;VALUE=DATE:20220311
DTEND;VALUE=DATE:20220321
DTSTAMP:20260423T154334
CREATED:20220218T191935Z
LAST-MODIFIED:20220218T191935Z
UID:4954-1646956800-1647820799@theclubatinverness.com
SUMMARY:Denver Restaurant Week Spring 2022
DESCRIPTION:Fireside Bar & Grill is participating in a special edition of Denver Restaurant Week! Beginning March 11th through March 20th we will be offering a $45.00 per person menu. \nClick Here for More Information
URL:https://theclubatinverness.com/event/denver-restaurant-week-spring-2022/
LOCATION:Fireside Bar & Grill\, 200 Inverness Dr W\, Englewood\, CO\, 801125200
CATEGORIES:Fireside Bar & Grill,Social
END:VEVENT
BEGIN:VEVENT
DTSTART;VALUE=DATE:20220315
DTEND;VALUE=DATE:20220316
DTSTAMP:20260423T154334
CREATED:20220218T192214Z
LAST-MODIFIED:20220218T192214Z
UID:4959-1647302400-1647388799@theclubatinverness.com
SUMMARY:March Madness Begins!
DESCRIPTION:Join us all month long for special offers and viewing of all March Madness events at the Breckenridge Brewery Ale & Game House!
URL:https://theclubatinverness.com/event/march-madness-begins/
LOCATION:Breckenridge Brewery Ale & Game House\, 200 Inverness Drive West\, Englewood\, CO\, 80112
CATEGORIES:Breckenridge Brewery Ale & Game House,Social
END:VEVENT
BEGIN:VEVENT
DTSTART;VALUE=DATE:20220317
DTEND;VALUE=DATE:20220318
DTSTAMP:20260423T154334
CREATED:20220218T192103Z
LAST-MODIFIED:20220218T192103Z
UID:4957-1647475200-1647561599@theclubatinverness.com
SUMMARY:Strike Gold in Breckenridge
DESCRIPTION:Check back soon for more information!
URL:https://theclubatinverness.com/event/strike-gold-in-breckenridge/
LOCATION:Breckenridge Brewery Ale & Game House\, 200 Inverness Drive West\, Englewood\, CO\, 80112
CATEGORIES:Breckenridge Brewery Ale & Game House,Social
END:VEVENT
BEGIN:VEVENT
DTSTART;VALUE=DATE:20220407
DTEND;VALUE=DATE:20220411
DTSTAMP:20260423T154334
CREATED:20220218T202031Z
LAST-MODIFIED:20220218T202031Z
UID:4969-1649289600-1649635199@theclubatinverness.com
SUMMARY:The Masters
DESCRIPTION:To celebrate\, Breckenridge Brewery will be running Masters themed food & drink specials beginning Thursday\, April 7th through Sunday\, April 10th from open to close. \nFEATURED SPECIALS\n+ Pimento Cheese Sandwich\n+ Egg Salad Sandwich\n+ BBQ Brisket Sandwich\n+ Fried Chicken Biscuit Sandwich\n+ Peach Ice Cream Sandwich\n+ Chocolate Chip Cookie \n+ John Daley Cocktail\n+ Azalea Cocktail \nWe will be broadcasting The Masters based on the following schedule\, but please make sure to check your Masters app for any updates beyond what we have noted here.
URL:https://theclubatinverness.com/event/the-masters-3/
LOCATION:Breckenridge Brewery Ale & Game House\, 200 Inverness Drive West\, Englewood\, CO\, 80112
CATEGORIES:Breckenridge Brewery Ale & Game House,Social
END:VEVENT
BEGIN:VEVENT
DTSTART;TZID=America/Denver:20220408T180000
DTEND;TZID=America/Denver:20220408T180000
DTSTAMP:20260423T154334
CREATED:20220218T202423Z
LAST-MODIFIED:20220218T202423Z
UID:4971-1649440800-1649440800@theclubatinverness.com
SUMMARY:Masters Calcutta
DESCRIPTION:More information coming soon!
URL:https://theclubatinverness.com/event/masters-calcutta/
LOCATION:CO
CATEGORIES:Social
END:VEVENT
BEGIN:VEVENT
DTSTART;TZID=America/Denver:20220413T180000
DTEND;TZID=America/Denver:20220413T193000
DTSTAMP:20260423T154334
CREATED:20220221T181500Z
LAST-MODIFIED:20220412T182624Z
UID:5021-1649872800-1649878200@theclubatinverness.com
SUMMARY:Golf Genius Education Reception - CANCELED
DESCRIPTION:Save the date to come and learn about Golf Genius\, a new system we will be utilizing throughout the year for our golf leagues and tournaments! \nFor more information please call the Pro Shop and ask for Dave Steinmetz. This event will be open to members only\, and will be complimentary.
URL:https://theclubatinverness.com/event/golf-genius-education-reception/
LOCATION:CO
CATEGORIES:Social
END:VEVENT
BEGIN:VEVENT
DTSTART;TZID=America/Denver:20220417T093000
DTEND;TZID=America/Denver:20220417T143000
DTSTAMP:20260423T154334
CREATED:20220218T202842Z
LAST-MODIFIED:20220218T202842Z
UID:4976-1650187800-1650205800@theclubatinverness.com
SUMMARY:Easter Brunch 2022
DESCRIPTION:Join us on Easter Sunday for a personalized brunch experience! To book a reservation\, call our Restaurant Reservation line directly at 303-397-6411.\nEarly reservation access for Members begins on March 7th. \nOnce available the menu will be viewable on our website under ‘Dining’!
URL:https://theclubatinverness.com/event/easter-brunch-2022/
LOCATION:Garden Terrace\, 200 Inverness Dr W\, Englewood\, CO\, 801125200
CATEGORIES:Social
END:VEVENT
BEGIN:VEVENT
DTSTART;VALUE=DATE:20220505
DTEND;VALUE=DATE:20220506
DTSTAMP:20260423T154334
CREATED:20220218T211817Z
LAST-MODIFIED:20220218T211817Z
UID:4980-1651708800-1651795199@theclubatinverness.com
SUMMARY:Cinco de Mayo
DESCRIPTION:Check back soon for more information!
URL:https://theclubatinverness.com/event/cinco-de-mayo/
LOCATION:CO
CATEGORIES:Social
END:VEVENT
BEGIN:VEVENT
DTSTART;TZID=America/Denver:20220530T110000
DTEND;TZID=America/Denver:20220530T133000
DTSTAMP:20260423T154334
CREATED:20220221T182333Z
LAST-MODIFIED:20220221T182353Z
UID:5023-1653908400-1653917400@theclubatinverness.com
SUMMARY:Memorial Day BBQ Luncheon
DESCRIPTION:Join us for a Memorial Day BBQ on Monday\, May 30 from 11:00am – 1:30pm in the Sunrise room!\nYou may enter Sunrise from outside the Golf Pro Shop\, up the concrete staircase or through the hotel\, past the Garden Terrace restaurant.\nThis event is open to both Members + guests of your choosing. \nPlease RSVP before May 26th.  \nCheck back for more details as we get closer!
URL:https://theclubatinverness.com/event/5023/
LOCATION:Sunrise\, 200 Inverness Dr West\, ENGLEWOOD\, CO\, 80112\, United States
CATEGORIES:Social
END:VEVENT
BEGIN:VEVENT
DTSTART;VALUE=DATE:20220619
DTEND;VALUE=DATE:20220620
DTSTAMP:20260423T154334
CREATED:20220218T214248Z
LAST-MODIFIED:20220218T214248Z
UID:4992-1655596800-1655683199@theclubatinverness.com
SUMMARY:Father's Day // US Open
DESCRIPTION:
URL:https://theclubatinverness.com/event/fathers-day-us-open/
LOCATION:Breckenridge Brewery Ale & Game House\, 200 Inverness Drive West\, Englewood\, CO\, 80112
CATEGORIES:Breckenridge Brewery Ale & Game House,Social
END:VEVENT
BEGIN:VEVENT
DTSTART;TZID=America/Denver:20220619T090000
DTEND;TZID=America/Denver:20220619T130000
DTSTAMP:20260423T154334
CREATED:20220602T160154Z
LAST-MODIFIED:20220602T160206Z
UID:5243-1655629200-1655643600@theclubatinverness.com
SUMMARY:Bourbon\, Bacon & Brisket
DESCRIPTION:  \n  \n  \n  \n  \n  \n  \n  \nCelebrate Dad at our Sunday Brunch at Garden Terrace with specials for Father’s Day.\nCall (303) 397-6411 to make your reservations today! \nAdults: $64.95 per person\nUnlimited mimosa / champagne: $10.00 per person\nChildren (6-12): $32.00 per child – Children 5 and under complimentary
URL:https://theclubatinverness.com/event/bourbon-bacon-brisket/
LOCATION:Garden Terrace\, 200 Inverness Dr W\, Englewood\, CO\, 801125200
CATEGORIES:Social
END:VEVENT
BEGIN:VEVENT
DTSTART;TZID=America/Denver:20220626T140000
DTEND;TZID=America/Denver:20220626T170000
DTSTAMP:20260423T154334
CREATED:20220218T214009Z
LAST-MODIFIED:20220602T155551Z
UID:4990-1656252000-1656262800@theclubatinverness.com
SUMMARY:4th Annual Slice of Summer
DESCRIPTION:Save the date\, more information to come!
URL:https://theclubatinverness.com/event/3rd-annual-slice-of-summer/
LOCATION:The Club at Inverness\, 200 Inverness Drive West Suite 100\, Englewood\, CO\, 80112\, United States
CATEGORIES:Social
END:VEVENT
BEGIN:VEVENT
DTSTART;VALUE=DATE:20220704
DTEND;VALUE=DATE:20220705
DTSTAMP:20260423T154334
CREATED:20220218T215306Z
LAST-MODIFIED:20220218T215306Z
UID:4996-1656892800-1656979199@theclubatinverness.com
SUMMARY:4th of July Poolside
DESCRIPTION:
URL:https://theclubatinverness.com/event/4th-of-july-poolside/
LOCATION:The Club at Inverness\, 200 Inverness Drive West Suite 100\, Englewood\, CO\, 80112\, United States
CATEGORIES:Social
END:VEVENT
BEGIN:VEVENT
DTSTART;TZID=America/Denver:20220903T110000
DTEND;TZID=America/Denver:20220903T110000
DTSTAMP:20260423T154334
CREATED:20220218T215640Z
LAST-MODIFIED:20220218T215640Z
UID:5004-1662202800-1662202800@theclubatinverness.com
SUMMARY:Labor Day Lunch at The Turn
DESCRIPTION:Join us on the Saturday before Labor Day\, out at ‘The Turn’ on Breckenridge Brewery patio here at The Club at Inverness for a special lunch offering! \nOpen to all\, both members\, guests and those golfing to staying at the Hilton. \n 
URL:https://theclubatinverness.com/event/labor-day-lunch-at-the-turn/
LOCATION:The Club at Inverness\, 200 Inverness Drive West Suite 100\, Englewood\, CO\, 80112\, United States
CATEGORIES:Social
END:VEVENT
BEGIN:VEVENT
DTSTART;TZID=America/Denver:20220906T080000
DTEND;TZID=America/Denver:20220908T140000
DTSTAMP:20260423T154334
CREATED:20220823T203141Z
LAST-MODIFIED:20220830T210007Z
UID:5408-1662451200-1662645600@theclubatinverness.com
SUMMARY:Weekly Pick'Em Pool
DESCRIPTION:Football Season is Here!  \nBring out your competitive spirit this football season with our weekly Confidence Pool. Each week you will select teams to win their game and if they win\, you win!  The member that selected the highest number of winning teams will win the cash prize for the week and bragging rights. Every week on Tuesday morning the pick sheets will be available in the Pro Shop. All pick sheets must be turned in to the Pro Shop by Thursday at 2:00pm.  An entry fee of $10 (cash only) will be collected at the time of pick submissions. The winner’s prize is the money collected from entry fees. Any ties will share the cash prizes. \nClick here for Week One Pick Sheet.
URL:https://theclubatinverness.com/event/weekly-confidence-pool/
LOCATION:CO
CATEGORIES:Group,Ladies,Mens,Social
END:VEVENT
BEGIN:VEVENT
DTSTART;TZID=America/Denver:20220913T080000
DTEND;TZID=America/Denver:20220915T140000
DTSTAMP:20260423T154334
CREATED:20220913T162449Z
LAST-MODIFIED:20220913T162923Z
UID:5516-1663056000-1663250400@theclubatinverness.com
SUMMARY:Weekly Pick'Em Pool
DESCRIPTION:Football Season is Here!  \nBring out your competitive spirit this football season with our weekly Pick’Em Pool. Each week you will select teams to win their game and if they win\, you win!  The member that selected the highest number of winning teams will win the cash prize for the week and bragging rights. Every week on Tuesday morning the pick sheets will be available in the Pro Shop. All pick sheets must be turned in to the Pro Shop by Thursday at 2:00pm.  An entry fee of $10 (cash only) will be collected at the time of pick submissions. The winner’s prize is the money collected from entry fees. Any ties will share the cash prizes. \nClick here to print Week 2 Schedule Pick’em Pool 2022
URL:https://theclubatinverness.com/event/weekly-confidence-pool-2/
LOCATION:CO
CATEGORIES:Group,Ladies,Mens,Social
END:VEVENT
BEGIN:VEVENT
DTSTART;TZID=America/Denver:20220920T080000
DTEND;TZID=America/Denver:20220922T140000
DTSTAMP:20260423T154334
CREATED:20220913T162906Z
LAST-MODIFIED:20220913T162906Z
UID:5520-1663660800-1663855200@theclubatinverness.com
SUMMARY:Weekly Pick'Em Pool
DESCRIPTION:Football Season is Here!  \nBring out your competitive spirit this football season with our weekly Pick’Em Pool. Each week you will select teams to win their game and if they win\, you win!  The member that selected the highest number of winning teams will win the cash prize for the week and bragging rights. Every week on Tuesday morning the pick sheets will be available in the Pro Shop. All pick sheets must be turned in to the Pro Shop by Thursday at 2:00pm.  An entry fee of $10 (cash only) will be collected at the time of pick submissions. The winner’s prize is the money collected from entry fees. Any ties will share the cash prizes. \nClick here to print Week-3-Schedule-Pick-em-Pool-2022.pdf
URL:https://theclubatinverness.com/event/weekly-confidence-pool-2-2/
LOCATION:CO
CATEGORIES:Group,Ladies,Mens,Social
END:VEVENT
BEGIN:VEVENT
DTSTART;TZID=America/Denver:20220927T080000
DTEND;TZID=America/Denver:20220929T140000
DTSTAMP:20260423T154334
CREATED:20220913T163108Z
LAST-MODIFIED:20220913T163108Z
UID:5524-1664265600-1664460000@theclubatinverness.com
SUMMARY:Weekly Pick'Em Pool
DESCRIPTION:Football Season is Here!  \nBring out your competitive spirit this football season with our weekly Pick’Em Pool. Each week you will select teams to win their game and if they win\, you win!  The member that selected the highest number of winning teams will win the cash prize for the week and bragging rights. Every week on Tuesday morning the pick sheets will be available in the Pro Shop. All pick sheets must be turned in to the Pro Shop by Thursday at 2:00pm.  An entry fee of $10 (cash only) will be collected at the time of pick submissions. The winner’s prize is the money collected from entry fees. Any ties will share the cash prizes. \nClick here to print Week-4-Schedule-Pick-em-Pool-2022.pdf
URL:https://theclubatinverness.com/event/weekly-confidence-pool-2-2-2/
LOCATION:CO
CATEGORIES:Group,Ladies,Mens,Social
END:VEVENT
BEGIN:VEVENT
DTSTART;VALUE=DATE:20220930
DTEND;VALUE=DATE:20221003
DTSTAMP:20260423T154334
CREATED:20220218T221250Z
LAST-MODIFIED:20220218T223203Z
UID:5008-1664496000-1664755199@theclubatinverness.com
SUMMARY:Brecktoberfest
DESCRIPTION:Join us in Breckenridge Brewery the first weekend of October to experience a specialty menu item in celebration of Oktoberfest!
URL:https://theclubatinverness.com/event/brecktoberfest-2/
LOCATION:Breckenridge Brewery Ale & Game House\, 200 Inverness Drive West\, Englewood\, CO\, 80112
CATEGORIES:Social
END:VEVENT
BEGIN:VEVENT
DTSTART;TZID=America/Denver:20221004T080000
DTEND;TZID=America/Denver:20221006T140000
DTSTAMP:20260423T154334
CREATED:20220913T163349Z
LAST-MODIFIED:20220913T163349Z
UID:5527-1664870400-1665064800@theclubatinverness.com
SUMMARY:Weekly Pick'Em Pool
DESCRIPTION:Football Season is Here!  \nBring out your competitive spirit this football season with our weekly Pick’Em Pool. Each week you will select teams to win their game and if they win\, you win!  The member that selected the highest number of winning teams will win the cash prize for the week and bragging rights. Every week on Tuesday morning the pick sheets will be available in the Pro Shop. All pick sheets must be turned in to the Pro Shop by Thursday at 2:00pm.  An entry fee of $10 (cash only) will be collected at the time of pick submissions. The winner’s prize is the money collected from entry fees. Any ties will share the cash prizes. \nClick here for Week 5 Schedule Pick’em Pool 2022
URL:https://theclubatinverness.com/event/weekly-confidence-pool-2-2-2-2/
LOCATION:CO
CATEGORIES:Group,Ladies,Mens,Social
END:VEVENT
BEGIN:VEVENT
DTSTART;TZID=America/Denver:20221011T080000
DTEND;TZID=America/Denver:20221013T140000
DTSTAMP:20260423T154334
CREATED:20220913T163528Z
LAST-MODIFIED:20220913T163528Z
UID:5530-1665475200-1665669600@theclubatinverness.com
SUMMARY:Weekly Pick'Em Pool
DESCRIPTION:Football Season is Here!  \nBring out your competitive spirit this football season with our weekly Pick’Em Pool. Each week you will select teams to win their game and if they win\, you win!  The member that selected the highest number of winning teams will win the cash prize for the week and bragging rights. Every week on Tuesday morning the pick sheets will be available in the Pro Shop. All pick sheets must be turned in to the Pro Shop by Thursday at 2:00pm.  An entry fee of $10 (cash only) will be collected at the time of pick submissions. The winner’s prize is the money collected from entry fees. Any ties will share the cash prizes. \nClick here for Week 6 Schedule Pick’em Pool 2022
URL:https://theclubatinverness.com/event/weekly-confidence-pool-2-2-2-2-2/
LOCATION:CO
CATEGORIES:Group,Ladies,Mens,Social
END:VEVENT
BEGIN:VEVENT
DTSTART;TZID=America/Denver:20221018T080000
DTEND;TZID=America/Denver:20221020T140000
DTSTAMP:20260423T154334
CREATED:20220913T171749Z
LAST-MODIFIED:20220913T171749Z
UID:5558-1666080000-1666274400@theclubatinverness.com
SUMMARY:Weekly Pick'Em Pool
DESCRIPTION:Football Season is Here!  \nBring out your competitive spirit this football season with our weekly Pick’Em Pool. Each week you will select teams to win their game and if they win\, you win!  The member that selected the highest number of winning teams will win the cash prize for the week and bragging rights. Every week on Tuesday morning the pick sheets will be available in the Pro Shop. All pick sheets must be turned in to the Pro Shop by Thursday at 2:00pm.  An entry fee of $10 (cash only) will be collected at the time of pick submissions. The winner’s prize is the money collected from entry fees. Any ties will share the cash prizes. \nClick here for Week 7 Schedule Pick’em Pool 2022
URL:https://theclubatinverness.com/event/weekly-confidence-pool-2-2-2-2-2-3/
LOCATION:CO
CATEGORIES:Group,Ladies,Mens,Social
END:VEVENT
BEGIN:VEVENT
DTSTART;TZID=America/Denver:20221025T080000
DTEND;TZID=America/Denver:20221027T140000
DTSTAMP:20260423T154334
CREATED:20220913T163925Z
LAST-MODIFIED:20220913T164045Z
UID:5533-1666684800-1666879200@theclubatinverness.com
SUMMARY:Weekly Pick'Em Pool
DESCRIPTION:Football Season is Here!  \nBring out your competitive spirit this football season with our weekly Pick’Em Pool. Each week you will select teams to win their game and if they win\, you win!  The member that selected the highest number of winning teams will win the cash prize for the week and bragging rights. Every week on Tuesday morning the pick sheets will be available in the Pro Shop. All pick sheets must be turned in to the Pro Shop by Thursday at 2:00pm.  An entry fee of $10 (cash only) will be collected at the time of pick submissions. The winner’s prize is the money collected from entry fees. Any ties will share the cash prizes. \nClick here for Week 8 Schedule Pick’em Pool 2022
URL:https://theclubatinverness.com/event/weekly-confidence-pool-2-2-2-2-2-2/
LOCATION:CO
CATEGORIES:Group,Ladies,Mens,Social
END:VEVENT
BEGIN:VEVENT
DTSTART;TZID=America/Denver:20221101T080000
DTEND;TZID=America/Denver:20221103T140000
DTSTAMP:20260423T154334
CREATED:20220913T164422Z
LAST-MODIFIED:20220913T164422Z
UID:5540-1667289600-1667484000@theclubatinverness.com
SUMMARY:Weekly Pick'Em Pool
DESCRIPTION:Football Season is Here!  \nBring out your competitive spirit this football season with our weekly Pick’Em Pool. Each week you will select teams to win their game and if they win\, you win!  The member that selected the highest number of winning teams will win the cash prize for the week and bragging rights. Every week on Tuesday morning the pick sheets will be available in the Pro Shop. All pick sheets must be turned in to the Pro Shop by Thursday at 2:00pm.  An entry fee of $10 (cash only) will be collected at the time of pick submissions. The winner’s prize is the money collected from entry fees. Any ties will share the cash prizes. \nClick here for Week 9 Schedule Pick’em Pool 2022
URL:https://theclubatinverness.com/event/weekly-confidence-pool-2-2-2-2-2-2-2/
LOCATION:CO
CATEGORIES:Group,Ladies,Mens,Social
END:VEVENT
BEGIN:VEVENT
DTSTART;TZID=America/Denver:20221108T080000
DTEND;TZID=America/Denver:20221110T140000
DTSTAMP:20260423T154334
CREATED:20220913T164655Z
LAST-MODIFIED:20220913T164655Z
UID:5543-1667894400-1668088800@theclubatinverness.com
SUMMARY:Weekly Pick'Em Pool
DESCRIPTION:Football Season is Here!  \nBring out your competitive spirit this football season with our weekly Pick’Em Pool. Each week you will select teams to win their game and if they win\, you win!  The member that selected the highest number of winning teams will win the cash prize for the week and bragging rights. Every week on Tuesday morning the pick sheets will be available in the Pro Shop. All pick sheets must be turned in to the Pro Shop by Thursday at 2:00pm.  An entry fee of $10 (cash only) will be collected at the time of pick submissions. The winner’s prize is the money collected from entry fees. Any ties will share the cash prizes. \nClick here for Week 10 Schedule Pick’em Pool 2022
URL:https://theclubatinverness.com/event/weekly-confidence-pool-2-2-2-2-2-2-2-2/
LOCATION:CO
CATEGORIES:Group,Ladies,Mens,Social
END:VEVENT
BEGIN:VEVENT
DTSTART;TZID=America/Denver:20221115T080000
DTEND;TZID=America/Denver:20221117T140000
DTSTAMP:20260423T154334
CREATED:20220913T165010Z
LAST-MODIFIED:20220913T165010Z
UID:5546-1668499200-1668693600@theclubatinverness.com
SUMMARY:Weekly Pick'Em Pool
DESCRIPTION:Football Season is Here!  \nBring out your competitive spirit this football season with our weekly Pick’Em Pool. Each week you will select teams to win their game and if they win\, you win!  The member that selected the highest number of winning teams will win the cash prize for the week and bragging rights. Every week on Tuesday morning the pick sheets will be available in the Pro Shop. All pick sheets must be turned in to the Pro Shop by Thursday at 2:00pm.  An entry fee of $10 (cash only) will be collected at the time of pick submissions. The winner’s prize is the money collected from entry fees. Any ties will share the cash prizes. \nClick here for Week 11 Schedule Pick’em Pool 2022
URL:https://theclubatinverness.com/event/weekly-confidence-pool-2-2-2-2-2-2-2-2-2/
LOCATION:CO
CATEGORIES:Group,Ladies,Mens,Social
END:VEVENT
END:VCALENDAR