BEGIN:VCALENDAR
VERSION:2.0
PRODID:-//The Club at Inverness | Golf, Tennis, Dining, Fitness, Spa &amp; Social Events - ECPv6.15.11//NONSGML v1.0//EN
CALSCALE:GREGORIAN
METHOD:PUBLISH
X-ORIGINAL-URL:https://theclubatinverness.com
X-WR-CALDESC:Events for The Club at Inverness | Golf, Tennis, Dining, Fitness, Spa &amp; Social Events
REFRESH-INTERVAL;VALUE=DURATION:PT1H
X-Robots-Tag:noindex
X-PUBLISHED-TTL:PT1H
BEGIN:VTIMEZONE
TZID:America/Denver
BEGIN:DAYLIGHT
TZOFFSETFROM:-0700
TZOFFSETTO:-0600
TZNAME:MDT
DTSTART:20180311T090000
END:DAYLIGHT
BEGIN:STANDARD
TZOFFSETFROM:-0600
TZOFFSETTO:-0700
TZNAME:MST
DTSTART:20181104T080000
END:STANDARD
BEGIN:DAYLIGHT
TZOFFSETFROM:-0700
TZOFFSETTO:-0600
TZNAME:MDT
DTSTART:20190310T090000
END:DAYLIGHT
BEGIN:STANDARD
TZOFFSETFROM:-0600
TZOFFSETTO:-0700
TZNAME:MST
DTSTART:20191103T080000
END:STANDARD
BEGIN:DAYLIGHT
TZOFFSETFROM:-0700
TZOFFSETTO:-0600
TZNAME:MDT
DTSTART:20200308T090000
END:DAYLIGHT
BEGIN:STANDARD
TZOFFSETFROM:-0600
TZOFFSETTO:-0700
TZNAME:MST
DTSTART:20201101T080000
END:STANDARD
END:VTIMEZONE
BEGIN:VEVENT
DTSTART;TZID=America/Denver:20191020T100000
DTEND;TZID=America/Denver:20191020T140000
DTSTAMP:20260424T162302
CREATED:20190909T180351Z
LAST-MODIFIED:20190909T180351Z
UID:2946-1571565600-1571580000@theclubatinverness.com
SUMMARY:Live Music @ Breckenridge Brewery Ale & Game House
DESCRIPTION:Come and join us at the Breckenridge Brewery to listen to some live music by John Hayden!
URL:https://theclubatinverness.com/event/live-music-breckenridge-brewery-ale-game-house-2-2-2-2-2-2-2-2-2-3-2-2-2-2-2-2-2-2-3-2-2-2-2-2-2-2-2-2-2-2-2-2-2-2-2-2-2/
LOCATION:The Club at Inverness\, 200 Inverness Drive West Suite 100\, Englewood\, CO\, 80112\, United States
CATEGORIES:Breckenridge Brewery Ale & Game House,Social
ATTACH;FMTTYPE=image/jpeg:https://theclubatinverness.com/wp-content/uploads/2019/07/Breckenridge_03_HR.jpg
END:VEVENT
BEGIN:VEVENT
DTSTART;TZID=America/Denver:20191023T170000
DTEND;TZID=America/Denver:20191023T200000
DTSTAMP:20260424T162302
CREATED:20190909T180426Z
LAST-MODIFIED:20190909T180426Z
UID:2948-1571850000-1571860800@theclubatinverness.com
SUMMARY:Live Music @ Breckenridge Brewery Ale & Game House
DESCRIPTION:Come and join us at the Breckenridge Brewery to listen to some live music by David Potter!
URL:https://theclubatinverness.com/event/live-music-breckenridge-brewery-ale-game-house-2-2-2-2-2-2-2-2-2-3-2-2-2-2-2-2-2-2-3-2-2-2-2-2-2-2-2-2-2-2-2-2-2-2-2-2-2-2/
LOCATION:The Club at Inverness\, 200 Inverness Drive West Suite 100\, Englewood\, CO\, 80112\, United States
CATEGORIES:Breckenridge Brewery Ale & Game House,Social
ATTACH;FMTTYPE=image/jpeg:https://theclubatinverness.com/wp-content/uploads/2019/07/Breckenridge_03_HR.jpg
END:VEVENT
BEGIN:VEVENT
DTSTART;TZID=America/Denver:20191023T170000
DTEND;TZID=America/Denver:20191023T200000
DTSTAMP:20260424T162302
CREATED:20190925T235027Z
LAST-MODIFIED:20190925T235027Z
UID:2968-1571850000-1571860800@theclubatinverness.com
SUMMARY:Luna Soiree
DESCRIPTION:
URL:https://theclubatinverness.com/event/luna-soiree/
LOCATION:The Spa\, 200 Inverness Drive West\, Englewood\, CO\, 80112\, United States
CATEGORIES:Social,Spa
END:VEVENT
BEGIN:VEVENT
DTSTART;TZID=America/Denver:20191025T160000
DTEND;TZID=America/Denver:20191025T190000
DTSTAMP:20260424T162302
CREATED:20190909T180456Z
LAST-MODIFIED:20190909T180456Z
UID:2950-1572019200-1572030000@theclubatinverness.com
SUMMARY:Live Music @ Breckenridge Brewery Ale & Game House
DESCRIPTION:Come and join us at the Breckenridge Brewery to listen to some live music by Keith Hicks!
URL:https://theclubatinverness.com/event/live-music-breckenridge-brewery-ale-game-house-2-2-2-2-2-2-2-2-2-3-2-2-2-2-2-2-2-2-3-2-2-2-2-2-2-2-2-2-2-2-2-2-2-2-2-2-2-2-2/
LOCATION:The Club at Inverness\, 200 Inverness Drive West Suite 100\, Englewood\, CO\, 80112\, United States
CATEGORIES:Breckenridge Brewery Ale & Game House,Social
ATTACH;FMTTYPE=image/jpeg:https://theclubatinverness.com/wp-content/uploads/2019/07/Breckenridge_03_HR.jpg
END:VEVENT
BEGIN:VEVENT
DTSTART;TZID=America/Denver:20191026T200000
DTEND;TZID=America/Denver:20191026T230000
DTSTAMP:20260424T162302
CREATED:20190909T180529Z
LAST-MODIFIED:20190909T180529Z
UID:2952-1572120000-1572130800@theclubatinverness.com
SUMMARY:Live Music @ Breckenridge Brewery Ale & Game House
DESCRIPTION:Come and join us at the Breckenridge Brewery to listen to some live music by Jack Hadley!
URL:https://theclubatinverness.com/event/live-music-breckenridge-brewery-ale-game-house-2-2-2-2-2-2-2-2-2-3-2-2-2-2-2-2-2-2-3-2-2-2-2-2-2-2-2-2-2-2-2-2-2-2-2-2-2-2-2-2/
LOCATION:The Club at Inverness\, 200 Inverness Drive West Suite 100\, Englewood\, CO\, 80112\, United States
CATEGORIES:Breckenridge Brewery Ale & Game House,Social
ATTACH;FMTTYPE=image/jpeg:https://theclubatinverness.com/wp-content/uploads/2019/07/Breckenridge_03_HR.jpg
END:VEVENT
BEGIN:VEVENT
DTSTART;TZID=America/Denver:20191027T100000
DTEND;TZID=America/Denver:20191027T140000
DTSTAMP:20260424T162302
CREATED:20190909T180552Z
LAST-MODIFIED:20190909T180552Z
UID:2954-1572170400-1572184800@theclubatinverness.com
SUMMARY:Live Music @ Breckenridge Brewery Ale & Game House
DESCRIPTION:Come and join us at the Breckenridge Brewery to listen to some live music by Jack Hadley!
URL:https://theclubatinverness.com/event/live-music-breckenridge-brewery-ale-game-house-2-2-2-2-2-2-2-2-2-3-2-2-2-2-2-2-2-2-3-2-2-2-2-2-2-2-2-2-2-2-2-2-2-2-2-2-2-2-2-2-2/
LOCATION:The Club at Inverness\, 200 Inverness Drive West Suite 100\, Englewood\, CO\, 80112\, United States
CATEGORIES:Breckenridge Brewery Ale & Game House,Social
ATTACH;FMTTYPE=image/jpeg:https://theclubatinverness.com/wp-content/uploads/2019/07/Breckenridge_03_HR.jpg
END:VEVENT
BEGIN:VEVENT
DTSTART;TZID=America/Denver:20191030T170000
DTEND;TZID=America/Denver:20191030T200000
DTSTAMP:20260424T162302
CREATED:20190909T180625Z
LAST-MODIFIED:20190909T180625Z
UID:2956-1572454800-1572465600@theclubatinverness.com
SUMMARY:Live Music @ Breckenridge Brewery Ale & Game House
DESCRIPTION:Come and join us at the Breckenridge Brewery to listen to some live music by Rob Wivchar!
URL:https://theclubatinverness.com/event/live-music-breckenridge-brewery-ale-game-house-2-2-2-2-2-2-2-2-2-3-2-2-2-2-2-2-2-2-3-2-2-2-2-2-2-2-2-2-2-2-2-2-2-2-2-2-2-2-2-2-2-2/
LOCATION:The Club at Inverness\, 200 Inverness Drive West Suite 100\, Englewood\, CO\, 80112\, United States
CATEGORIES:Breckenridge Brewery Ale & Game House,Social
ATTACH;FMTTYPE=image/jpeg:https://theclubatinverness.com/wp-content/uploads/2019/07/Breckenridge_03_HR.jpg
END:VEVENT
BEGIN:VEVENT
DTSTART;TZID=America/Denver:20191113T170000
DTEND;TZID=America/Denver:20191113T200000
DTSTAMP:20260424T162302
CREATED:20191113T041506Z
LAST-MODIFIED:20191113T041802Z
UID:3134-1573664400-1573675200@theclubatinverness.com
SUMMARY:Live Music!
DESCRIPTION:Come and join us at the Breckenridge Brewery to listen to some live music by Rob Wivchar!
URL:https://theclubatinverness.com/event/live-music-breckenridge-brewery-ale-game-house-2-2-2-2-2-2-2-2-2-3-2-2-2-2-2-2-2-2-3-2-2-2-2-2-2-2-2-2-2-2-2-2-2-2-2-2-2-2-2-2-2-2-2-2/
LOCATION:The Club at Inverness\, 200 Inverness Drive West Suite 100\, Englewood\, CO\, 80112\, United States
CATEGORIES:Breckenridge Brewery Ale & Game House,Social
ATTACH;FMTTYPE=image/jpeg:https://theclubatinverness.com/wp-content/uploads/2019/07/Breckenridge_03_HR.jpg
END:VEVENT
BEGIN:VEVENT
DTSTART;TZID=America/Denver:20191115T160000
DTEND;TZID=America/Denver:20191115T190000
DTSTAMP:20260424T162302
CREATED:20191113T041336Z
LAST-MODIFIED:20191113T041756Z
UID:3131-1573833600-1573844400@theclubatinverness.com
SUMMARY:Live Music!
DESCRIPTION:Come and join us at the Breckenridge Brewery to listen to some live music by Chris Koltak!
URL:https://theclubatinverness.com/event/live-music-breckenridge-brewery-ale-game-house-2-2-2-2-2-2-2-2-2-3-2-2-2-2-2-2-2-2-3-2-2-2-2-2-2-2-2-2-2-2-2-2-2-2-2-2-2-2-2-2-2-2-2/
LOCATION:The Club at Inverness\, 200 Inverness Drive West Suite 100\, Englewood\, CO\, 80112\, United States
CATEGORIES:Breckenridge Brewery Ale & Game House,Social
ATTACH;FMTTYPE=image/jpeg:https://theclubatinverness.com/wp-content/uploads/2019/07/Breckenridge_03_HR.jpg
END:VEVENT
BEGIN:VEVENT
DTSTART;TZID=America/Denver:20191116T200000
DTEND;TZID=America/Denver:20191116T230000
DTSTAMP:20260424T162302
CREATED:20191113T041605Z
LAST-MODIFIED:20191113T041748Z
UID:3137-1573934400-1573945200@theclubatinverness.com
SUMMARY:Live Music!
DESCRIPTION:Come and join us at the Breckenridge Brewery to listen to some live music by Jack Hadley!
URL:https://theclubatinverness.com/event/live-music-breckenridge-brewery-ale-game-house-2-2-2-2-2-2-2-2-2-3-2-2-2-2-2-2-2-2-3-2-2-2-2-2-2-2-2-2-2-2-2-2-2-2-2-2-2-2-2-2-2-2-2-3/
LOCATION:The Club at Inverness\, 200 Inverness Drive West Suite 100\, Englewood\, CO\, 80112\, United States
CATEGORIES:Breckenridge Brewery Ale & Game House,Social
ATTACH;FMTTYPE=image/jpeg:https://theclubatinverness.com/wp-content/uploads/2019/07/Breckenridge_03_HR.jpg
END:VEVENT
BEGIN:VEVENT
DTSTART;TZID=America/Denver:20191117T100000
DTEND;TZID=America/Denver:20191117T140000
DTSTAMP:20260424T162302
CREATED:20191113T041639Z
LAST-MODIFIED:20191113T041732Z
UID:3139-1573984800-1573999200@theclubatinverness.com
SUMMARY:Live Music!
DESCRIPTION:Come and join us at the Breckenridge Brewery to listen to some live music by John Hayden!
URL:https://theclubatinverness.com/event/live-music-breckenridge-brewery-ale-game-house-2-2-2-2-2-2-2-2-2-3-2-2-2-2-2-2-2-2-3-2-2-2-2-2-2-2-2-2-2-2-2-2-2-2-2-2-2-2-2-2-2-2-2-4/
LOCATION:The Club at Inverness\, 200 Inverness Drive West Suite 100\, Englewood\, CO\, 80112\, United States
CATEGORIES:Breckenridge Brewery Ale & Game House,Social
ATTACH;FMTTYPE=image/jpeg:https://theclubatinverness.com/wp-content/uploads/2019/07/Breckenridge_03_HR.jpg
END:VEVENT
BEGIN:VEVENT
DTSTART;TZID=America/Denver:20191120T170000
DTEND;TZID=America/Denver:20191120T200000
DTSTAMP:20260424T162302
CREATED:20191113T041841Z
LAST-MODIFIED:20191113T041841Z
UID:3147-1574269200-1574280000@theclubatinverness.com
SUMMARY:Live Music!
DESCRIPTION:Come and join us at the Breckenridge Brewery to listen to some live music by Jack Hadley!
URL:https://theclubatinverness.com/event/live-music-breckenridge-brewery-ale-game-house-2-2-2-2-2-2-2-2-2-3-2-2-2-2-2-2-2-2-3-2-2-2-2-2-2-2-2-2-2-2-2-2-2-2-2-2-2-2-2-2-2-2-2-4-2/
LOCATION:The Club at Inverness\, 200 Inverness Drive West Suite 100\, Englewood\, CO\, 80112\, United States
CATEGORIES:Breckenridge Brewery Ale & Game House,Social
ATTACH;FMTTYPE=image/jpeg:https://theclubatinverness.com/wp-content/uploads/2019/07/Breckenridge_03_HR.jpg
END:VEVENT
BEGIN:VEVENT
DTSTART;TZID=America/Denver:20191122T160000
DTEND;TZID=America/Denver:20191122T190000
DTSTAMP:20260424T162302
CREATED:20191113T041913Z
LAST-MODIFIED:20191113T041913Z
UID:3149-1574438400-1574449200@theclubatinverness.com
SUMMARY:Live Music!
DESCRIPTION:Come and join us at the Breckenridge Brewery to listen to some live music by Keith Hicks!
URL:https://theclubatinverness.com/event/live-music-breckenridge-brewery-ale-game-house-2-2-2-2-2-2-2-2-2-3-2-2-2-2-2-2-2-2-3-2-2-2-2-2-2-2-2-2-2-2-2-2-2-2-2-2-2-2-2-2-2-2-2-4-2-2/
LOCATION:The Club at Inverness\, 200 Inverness Drive West Suite 100\, Englewood\, CO\, 80112\, United States
CATEGORIES:Breckenridge Brewery Ale & Game House,Social
ATTACH;FMTTYPE=image/jpeg:https://theclubatinverness.com/wp-content/uploads/2019/07/Breckenridge_03_HR.jpg
END:VEVENT
BEGIN:VEVENT
DTSTART;TZID=America/Denver:20191123T200000
DTEND;TZID=America/Denver:20191123T230000
DTSTAMP:20260424T162302
CREATED:20191113T041953Z
LAST-MODIFIED:20191113T041953Z
UID:3151-1574539200-1574550000@theclubatinverness.com
SUMMARY:Live Music!
DESCRIPTION:Come and join us at the Breckenridge Brewery to listen to some live music by Marlo Mortensen!
URL:https://theclubatinverness.com/event/live-music-breckenridge-brewery-ale-game-house-2-2-2-2-2-2-2-2-2-3-2-2-2-2-2-2-2-2-3-2-2-2-2-2-2-2-2-2-2-2-2-2-2-2-2-2-2-2-2-2-2-2-2-4-2-2-2/
LOCATION:The Club at Inverness\, 200 Inverness Drive West Suite 100\, Englewood\, CO\, 80112\, United States
CATEGORIES:Breckenridge Brewery Ale & Game House,Social
ATTACH;FMTTYPE=image/jpeg:https://theclubatinverness.com/wp-content/uploads/2019/07/Breckenridge_03_HR.jpg
END:VEVENT
BEGIN:VEVENT
DTSTART;TZID=America/Denver:20191124T100000
DTEND;TZID=America/Denver:20191124T140000
DTSTAMP:20260424T162302
CREATED:20191113T042029Z
LAST-MODIFIED:20191113T042029Z
UID:3153-1574589600-1574604000@theclubatinverness.com
SUMMARY:Live Music!
DESCRIPTION:Come and join us at the Breckenridge Brewery to listen to some live music by Jack Hadley!
URL:https://theclubatinverness.com/event/live-music-breckenridge-brewery-ale-game-house-2-2-2-2-2-2-2-2-2-3-2-2-2-2-2-2-2-2-3-2-2-2-2-2-2-2-2-2-2-2-2-2-2-2-2-2-2-2-2-2-2-2-2-4-2-2-2-2/
LOCATION:The Club at Inverness\, 200 Inverness Drive West Suite 100\, Englewood\, CO\, 80112\, United States
CATEGORIES:Breckenridge Brewery Ale & Game House,Social
ATTACH;FMTTYPE=image/jpeg:https://theclubatinverness.com/wp-content/uploads/2019/07/Breckenridge_03_HR.jpg
END:VEVENT
BEGIN:VEVENT
DTSTART;TZID=America/Denver:20191127T170000
DTEND;TZID=America/Denver:20191127T200000
DTSTAMP:20260424T162302
CREATED:20191113T042101Z
LAST-MODIFIED:20191113T042101Z
UID:3155-1574874000-1574884800@theclubatinverness.com
SUMMARY:Live Music!
DESCRIPTION:Come and join us at the Breckenridge Brewery to listen to some live music by Rob Wivchar!
URL:https://theclubatinverness.com/event/live-music-breckenridge-brewery-ale-game-house-2-2-2-2-2-2-2-2-2-3-2-2-2-2-2-2-2-2-3-2-2-2-2-2-2-2-2-2-2-2-2-2-2-2-2-2-2-2-2-2-2-2-2-4-2-2-2-2-2/
LOCATION:The Club at Inverness\, 200 Inverness Drive West Suite 100\, Englewood\, CO\, 80112\, United States
CATEGORIES:Breckenridge Brewery Ale & Game House,Social
ATTACH;FMTTYPE=image/jpeg:https://theclubatinverness.com/wp-content/uploads/2019/07/Breckenridge_03_HR.jpg
END:VEVENT
BEGIN:VEVENT
DTSTART;TZID=America/Denver:20191129T160000
DTEND;TZID=America/Denver:20191129T190000
DTSTAMP:20260424T162302
CREATED:20191113T042128Z
LAST-MODIFIED:20191113T042128Z
UID:3157-1575043200-1575054000@theclubatinverness.com
SUMMARY:Live Music!
DESCRIPTION:Come and join us at the Breckenridge Brewery to listen to some live music by Rob Wivchar!
URL:https://theclubatinverness.com/event/live-music-breckenridge-brewery-ale-game-house-2-2-2-2-2-2-2-2-2-3-2-2-2-2-2-2-2-2-3-2-2-2-2-2-2-2-2-2-2-2-2-2-2-2-2-2-2-2-2-2-2-2-2-4-2-2-2-2-2-2/
LOCATION:The Club at Inverness\, 200 Inverness Drive West Suite 100\, Englewood\, CO\, 80112\, United States
CATEGORIES:Breckenridge Brewery Ale & Game House,Social
ATTACH;FMTTYPE=image/jpeg:https://theclubatinverness.com/wp-content/uploads/2019/07/Breckenridge_03_HR.jpg
END:VEVENT
BEGIN:VEVENT
DTSTART;TZID=America/Denver:20191130T200000
DTEND;TZID=America/Denver:20191130T230000
DTSTAMP:20260424T162302
CREATED:20191113T042203Z
LAST-MODIFIED:20191113T042203Z
UID:3159-1575144000-1575154800@theclubatinverness.com
SUMMARY:Live Music!
DESCRIPTION:Come and join us at the Breckenridge Brewery to listen to some live music by David Potter!
URL:https://theclubatinverness.com/event/live-music-breckenridge-brewery-ale-game-house-2-2-2-2-2-2-2-2-2-3-2-2-2-2-2-2-2-2-3-2-2-2-2-2-2-2-2-2-2-2-2-2-2-2-2-2-2-2-2-2-2-2-2-4-2-2-2-2-2-2-2/
LOCATION:The Club at Inverness\, 200 Inverness Drive West Suite 100\, Englewood\, CO\, 80112\, United States
CATEGORIES:Breckenridge Brewery Ale & Game House,Social
ATTACH;FMTTYPE=image/jpeg:https://theclubatinverness.com/wp-content/uploads/2019/07/Breckenridge_03_HR.jpg
END:VEVENT
BEGIN:VEVENT
DTSTART;TZID=America/Denver:20191201T100000
DTEND;TZID=America/Denver:20191201T130000
DTSTAMP:20260424T162302
CREATED:20191113T042254Z
LAST-MODIFIED:20191113T042254Z
UID:3161-1575194400-1575205200@theclubatinverness.com
SUMMARY:Live Music!
DESCRIPTION:Come and join us at the Breckenridge Brewery to listen to some live music by John Hayden!
URL:https://theclubatinverness.com/event/live-music-breckenridge-brewery-ale-game-house-2-2-2-2-2-2-2-2-2-3-2-2-2-2-2-2-2-2-3-2-2-2-2-2-2-2-2-2-2-2-2-2-2-2-2-2-2-2-2-2-2-2-2-4-2-2-2-2-2-2-2-2/
LOCATION:The Club at Inverness\, 200 Inverness Drive West Suite 100\, Englewood\, CO\, 80112\, United States
CATEGORIES:Breckenridge Brewery Ale & Game House,Social
ATTACH;FMTTYPE=image/jpeg:https://theclubatinverness.com/wp-content/uploads/2019/07/Breckenridge_03_HR.jpg
END:VEVENT
BEGIN:VEVENT
DTSTART;TZID=America/Denver:20191204T170000
DTEND;TZID=America/Denver:20191204T200000
DTSTAMP:20260424T162302
CREATED:20191113T042330Z
LAST-MODIFIED:20191113T042330Z
UID:3163-1575478800-1575489600@theclubatinverness.com
SUMMARY:Live Music!
DESCRIPTION:Come and join us at the Breckenridge Brewery to listen to some live music by Rob Wivchar!
URL:https://theclubatinverness.com/event/live-music-breckenridge-brewery-ale-game-house-2-2-2-2-2-2-2-2-2-3-2-2-2-2-2-2-2-2-3-2-2-2-2-2-2-2-2-2-2-2-2-2-2-2-2-2-2-2-2-2-2-2-2-4-2-2-2-2-2-2-2-2-2/
LOCATION:The Club at Inverness\, 200 Inverness Drive West Suite 100\, Englewood\, CO\, 80112\, United States
CATEGORIES:Breckenridge Brewery Ale & Game House,Social
ATTACH;FMTTYPE=image/jpeg:https://theclubatinverness.com/wp-content/uploads/2019/07/Breckenridge_03_HR.jpg
END:VEVENT
BEGIN:VEVENT
DTSTART;TZID=America/Denver:20191206T160000
DTEND;TZID=America/Denver:20191206T190000
DTSTAMP:20260424T162302
CREATED:20191113T042404Z
LAST-MODIFIED:20191113T042404Z
UID:3165-1575648000-1575658800@theclubatinverness.com
SUMMARY:Live Music!
DESCRIPTION:Come and join us at the Breckenridge Brewery to listen to some live music by Keith Hicks!
URL:https://theclubatinverness.com/event/live-music-breckenridge-brewery-ale-game-house-2-2-2-2-2-2-2-2-2-3-2-2-2-2-2-2-2-2-3-2-2-2-2-2-2-2-2-2-2-2-2-2-2-2-2-2-2-2-2-2-2-2-2-4-2-2-2-2-2-2-2-2-2-2/
LOCATION:The Club at Inverness\, 200 Inverness Drive West Suite 100\, Englewood\, CO\, 80112\, United States
CATEGORIES:Breckenridge Brewery Ale & Game House,Social
ATTACH;FMTTYPE=image/jpeg:https://theclubatinverness.com/wp-content/uploads/2019/07/Breckenridge_03_HR.jpg
END:VEVENT
BEGIN:VEVENT
DTSTART;TZID=America/Denver:20191207T200000
DTEND;TZID=America/Denver:20191207T230000
DTSTAMP:20260424T162302
CREATED:20191113T042435Z
LAST-MODIFIED:20191113T042435Z
UID:3167-1575748800-1575759600@theclubatinverness.com
SUMMARY:Live Music!
DESCRIPTION:Come and join us at the Breckenridge Brewery to listen to some live music by David Potter!
URL:https://theclubatinverness.com/event/live-music-breckenridge-brewery-ale-game-house-2-2-2-2-2-2-2-2-2-3-2-2-2-2-2-2-2-2-3-2-2-2-2-2-2-2-2-2-2-2-2-2-2-2-2-2-2-2-2-2-2-2-2-4-2-2-2-2-2-2-2-2-2-2-2/
LOCATION:The Club at Inverness\, 200 Inverness Drive West Suite 100\, Englewood\, CO\, 80112\, United States
CATEGORIES:Breckenridge Brewery Ale & Game House,Social
ATTACH;FMTTYPE=image/jpeg:https://theclubatinverness.com/wp-content/uploads/2019/07/Breckenridge_03_HR.jpg
END:VEVENT
BEGIN:VEVENT
DTSTART;TZID=America/Denver:20191208T100000
DTEND;TZID=America/Denver:20191208T140000
DTSTAMP:20260424T162302
CREATED:20191113T042522Z
LAST-MODIFIED:20191113T042522Z
UID:3169-1575799200-1575813600@theclubatinverness.com
SUMMARY:Live Music!
DESCRIPTION:Come and join us at the Breckenridge Brewery to listen to some live music by Jack Hadley!
URL:https://theclubatinverness.com/event/live-music-breckenridge-brewery-ale-game-house-2-2-2-2-2-2-2-2-2-3-2-2-2-2-2-2-2-2-3-2-2-2-2-2-2-2-2-2-2-2-2-2-2-2-2-2-2-2-2-2-2-2-2-4-2-2-2-2-2-2-2-2-2-2-2-2/
LOCATION:The Club at Inverness\, 200 Inverness Drive West Suite 100\, Englewood\, CO\, 80112\, United States
CATEGORIES:Breckenridge Brewery Ale & Game House,Social
ATTACH;FMTTYPE=image/jpeg:https://theclubatinverness.com/wp-content/uploads/2019/07/Breckenridge_03_HR.jpg
END:VEVENT
BEGIN:VEVENT
DTSTART;TZID=America/Denver:20191211T170000
DTEND;TZID=America/Denver:20191211T200000
DTSTAMP:20260424T162302
CREATED:20191113T042545Z
LAST-MODIFIED:20191113T042545Z
UID:3170-1576083600-1576094400@theclubatinverness.com
SUMMARY:Live Music!
DESCRIPTION:Come and join us at the Breckenridge Brewery to listen to some live music by Jack Hadley!
URL:https://theclubatinverness.com/event/live-music-breckenridge-brewery-ale-game-house-2-2-2-2-2-2-2-2-2-3-2-2-2-2-2-2-2-2-3-2-2-2-2-2-2-2-2-2-2-2-2-2-2-2-2-2-2-2-2-2-2-2-2-4-2-2-2-2-2-2-2-2-2-2-2-3/
LOCATION:The Club at Inverness\, 200 Inverness Drive West Suite 100\, Englewood\, CO\, 80112\, United States
CATEGORIES:Breckenridge Brewery Ale & Game House,Social
ATTACH;FMTTYPE=image/jpeg:https://theclubatinverness.com/wp-content/uploads/2019/07/Breckenridge_03_HR.jpg
END:VEVENT
BEGIN:VEVENT
DTSTART;TZID=America/Denver:20191213T160000
DTEND;TZID=America/Denver:20191213T190000
DTSTAMP:20260424T162302
CREATED:20191113T042607Z
LAST-MODIFIED:20191113T042607Z
UID:3173-1576252800-1576263600@theclubatinverness.com
SUMMARY:Live Music!
DESCRIPTION:Come and join us at the Breckenridge Brewery to listen to some live music by David Potter!
URL:https://theclubatinverness.com/event/live-music-breckenridge-brewery-ale-game-house-2-2-2-2-2-2-2-2-2-3-2-2-2-2-2-2-2-2-3-2-2-2-2-2-2-2-2-2-2-2-2-2-2-2-2-2-2-2-2-2-2-2-2-4-2-2-2-2-2-2-2-2-2-2-2-3-2/
LOCATION:The Club at Inverness\, 200 Inverness Drive West Suite 100\, Englewood\, CO\, 80112\, United States
CATEGORIES:Breckenridge Brewery Ale & Game House,Social
ATTACH;FMTTYPE=image/jpeg:https://theclubatinverness.com/wp-content/uploads/2019/07/Breckenridge_03_HR.jpg
END:VEVENT
BEGIN:VEVENT
DTSTART;TZID=America/Denver:20191214T200000
DTEND;TZID=America/Denver:20191214T230000
DTSTAMP:20260424T162302
CREATED:20191113T042639Z
LAST-MODIFIED:20191113T042639Z
UID:3175-1576353600-1576364400@theclubatinverness.com
SUMMARY:Live Music!
DESCRIPTION:Come and join us at the Breckenridge Brewery to listen to some live music by Chris Koltak!
URL:https://theclubatinverness.com/event/live-music-breckenridge-brewery-ale-game-house-2-2-2-2-2-2-2-2-2-3-2-2-2-2-2-2-2-2-3-2-2-2-2-2-2-2-2-2-2-2-2-2-2-2-2-2-2-2-2-2-2-2-2-4-2-2-2-2-2-2-2-2-2-2-2-3-2-2/
LOCATION:The Club at Inverness\, 200 Inverness Drive West Suite 100\, Englewood\, CO\, 80112\, United States
CATEGORIES:Breckenridge Brewery Ale & Game House,Social
ATTACH;FMTTYPE=image/jpeg:https://theclubatinverness.com/wp-content/uploads/2019/07/Breckenridge_03_HR.jpg
END:VEVENT
BEGIN:VEVENT
DTSTART;TZID=America/Denver:20191215T100000
DTEND;TZID=America/Denver:20191215T140000
DTSTAMP:20260424T162302
CREATED:20191113T042707Z
LAST-MODIFIED:20191113T042707Z
UID:3177-1576404000-1576418400@theclubatinverness.com
SUMMARY:Live Music!
DESCRIPTION:Come and join us at the Breckenridge Brewery to listen to some live music by John Hayden!
URL:https://theclubatinverness.com/event/live-music-breckenridge-brewery-ale-game-house-2-2-2-2-2-2-2-2-2-3-2-2-2-2-2-2-2-2-3-2-2-2-2-2-2-2-2-2-2-2-2-2-2-2-2-2-2-2-2-2-2-2-2-4-2-2-2-2-2-2-2-2-2-2-2-3-2-2-2/
LOCATION:The Club at Inverness\, 200 Inverness Drive West Suite 100\, Englewood\, CO\, 80112\, United States
CATEGORIES:Breckenridge Brewery Ale & Game House,Social
ATTACH;FMTTYPE=image/jpeg:https://theclubatinverness.com/wp-content/uploads/2019/07/Breckenridge_03_HR.jpg
END:VEVENT
BEGIN:VEVENT
DTSTART;TZID=America/Denver:20191218T170000
DTEND;TZID=America/Denver:20191218T200000
DTSTAMP:20260424T162302
CREATED:20191113T042742Z
LAST-MODIFIED:20191113T042742Z
UID:3179-1576688400-1576699200@theclubatinverness.com
SUMMARY:Live Music!
DESCRIPTION:Come and join us at the Breckenridge Brewery to listen to some live music by Rob Wivchar!
URL:https://theclubatinverness.com/event/live-music-breckenridge-brewery-ale-game-house-2-2-2-2-2-2-2-2-2-3-2-2-2-2-2-2-2-2-3-2-2-2-2-2-2-2-2-2-2-2-2-2-2-2-2-2-2-2-2-2-2-2-2-4-2-2-2-2-2-2-2-2-2-2-2-3-2-2-2-2/
LOCATION:The Club at Inverness\, 200 Inverness Drive West Suite 100\, Englewood\, CO\, 80112\, United States
CATEGORIES:Breckenridge Brewery Ale & Game House,Social
ATTACH;FMTTYPE=image/jpeg:https://theclubatinverness.com/wp-content/uploads/2019/07/Breckenridge_03_HR.jpg
END:VEVENT
BEGIN:VEVENT
DTSTART;TZID=America/Denver:20191220T160000
DTEND;TZID=America/Denver:20191220T190000
DTSTAMP:20260424T162302
CREATED:20191113T042803Z
LAST-MODIFIED:20191113T042803Z
UID:3181-1576857600-1576868400@theclubatinverness.com
SUMMARY:Live Music!
DESCRIPTION:Come and join us at the Breckenridge Brewery to listen to some live music by Jack Hadley!
URL:https://theclubatinverness.com/event/live-music-breckenridge-brewery-ale-game-house-2-2-2-2-2-2-2-2-2-3-2-2-2-2-2-2-2-2-3-2-2-2-2-2-2-2-2-2-2-2-2-2-2-2-2-2-2-2-2-2-2-2-2-4-2-2-2-2-2-2-2-2-2-2-2-3-2-2-2-2-2/
LOCATION:The Club at Inverness\, 200 Inverness Drive West Suite 100\, Englewood\, CO\, 80112\, United States
CATEGORIES:Breckenridge Brewery Ale & Game House,Social
ATTACH;FMTTYPE=image/jpeg:https://theclubatinverness.com/wp-content/uploads/2019/07/Breckenridge_03_HR.jpg
END:VEVENT
BEGIN:VEVENT
DTSTART;TZID=America/Denver:20191221T200000
DTEND;TZID=America/Denver:20191221T230000
DTSTAMP:20260424T162302
CREATED:20191113T042833Z
LAST-MODIFIED:20191113T042833Z
UID:3183-1576958400-1576969200@theclubatinverness.com
SUMMARY:Live Music!
DESCRIPTION:Come and join us at the Breckenridge Brewery to listen to some live music by Marlo Mortensen!
URL:https://theclubatinverness.com/event/live-music-breckenridge-brewery-ale-game-house-2-2-2-2-2-2-2-2-2-3-2-2-2-2-2-2-2-2-3-2-2-2-2-2-2-2-2-2-2-2-2-2-2-2-2-2-2-2-2-2-2-2-2-4-2-2-2-2-2-2-2-2-2-2-2-3-2-2-2-2-2-2/
LOCATION:The Club at Inverness\, 200 Inverness Drive West Suite 100\, Englewood\, CO\, 80112\, United States
CATEGORIES:Breckenridge Brewery Ale & Game House,Social
ATTACH;FMTTYPE=image/jpeg:https://theclubatinverness.com/wp-content/uploads/2019/07/Breckenridge_03_HR.jpg
END:VEVENT
END:VCALENDAR