BEGIN:VCALENDAR
VERSION:2.0
PRODID:-//The Club at Inverness | Golf, Tennis, Dining, Fitness, Spa &amp; Social Events - ECPv6.15.11//NONSGML v1.0//EN
CALSCALE:GREGORIAN
METHOD:PUBLISH
X-ORIGINAL-URL:https://theclubatinverness.com
X-WR-CALDESC:Events for The Club at Inverness | Golf, Tennis, Dining, Fitness, Spa &amp; Social Events
REFRESH-INTERVAL;VALUE=DURATION:PT1H
X-Robots-Tag:noindex
X-PUBLISHED-TTL:PT1H
BEGIN:VTIMEZONE
TZID:America/Denver
BEGIN:DAYLIGHT
TZOFFSETFROM:-0700
TZOFFSETTO:-0600
TZNAME:MDT
DTSTART:20220313T090000
END:DAYLIGHT
BEGIN:STANDARD
TZOFFSETFROM:-0600
TZOFFSETTO:-0700
TZNAME:MST
DTSTART:20221106T080000
END:STANDARD
BEGIN:DAYLIGHT
TZOFFSETFROM:-0700
TZOFFSETTO:-0600
TZNAME:MDT
DTSTART:20230312T090000
END:DAYLIGHT
BEGIN:STANDARD
TZOFFSETFROM:-0600
TZOFFSETTO:-0700
TZNAME:MST
DTSTART:20231105T080000
END:STANDARD
BEGIN:DAYLIGHT
TZOFFSETFROM:-0700
TZOFFSETTO:-0600
TZNAME:MDT
DTSTART:20240310T090000
END:DAYLIGHT
BEGIN:STANDARD
TZOFFSETFROM:-0600
TZOFFSETTO:-0700
TZNAME:MST
DTSTART:20241103T080000
END:STANDARD
END:VTIMEZONE
BEGIN:VEVENT
DTSTART;TZID=America/Denver:20230325T140000
DTEND;TZID=America/Denver:20230325T160000
DTSTAMP:20260419T123242
CREATED:20220221T180314Z
LAST-MODIFIED:20230320T152016Z
UID:5018-1679752800-1679760000@theclubatinverness.com
SUMMARY:Club Connect | Wellness
DESCRIPTION:Join us at our first Cub Connect in 2023! \nFor this particular Club Connect is focused on all things wellness! \nThe event will include professionals in health and wellness\, a complimentary mini fitness class\, stretches\, chair massages\, informational tips & tricks\, healthy bites and juices\, and more! \nOur featured vendors and offerings include: \n\nStretch Lab | Complimentary Stretches with Flexogists\nTheragun\nOakley\nMassage Therapist | Complimentary Chair Massages\nDr. Riley Kulm | Chiropractor\nSpa Product Sampling\nMini Complimentary Fitness Class\n\nPlease register with Amy at abeman@invernessdenver.com by March 20th.  \n\n 
URL:https://theclubatinverness.com/event/club-connect-wellness-centered/
LOCATION:Aspen
CATEGORIES:Social
END:VEVENT
END:VCALENDAR