BEGIN:VCALENDAR
VERSION:2.0
PRODID:-//The Club at Inverness | Golf, Tennis, Dining, Fitness, Spa &amp; Social Events - ECPv6.15.11//NONSGML v1.0//EN
CALSCALE:GREGORIAN
METHOD:PUBLISH
X-ORIGINAL-URL:https://theclubatinverness.com
X-WR-CALDESC:Events for The Club at Inverness | Golf, Tennis, Dining, Fitness, Spa &amp; Social Events
REFRESH-INTERVAL;VALUE=DURATION:PT1H
X-Robots-Tag:noindex
X-PUBLISHED-TTL:PT1H
BEGIN:VTIMEZONE
TZID:America/Denver
BEGIN:DAYLIGHT
TZOFFSETFROM:-0700
TZOFFSETTO:-0600
TZNAME:MDT
DTSTART:20190310T090000
END:DAYLIGHT
BEGIN:STANDARD
TZOFFSETFROM:-0600
TZOFFSETTO:-0700
TZNAME:MST
DTSTART:20191103T080000
END:STANDARD
BEGIN:DAYLIGHT
TZOFFSETFROM:-0700
TZOFFSETTO:-0600
TZNAME:MDT
DTSTART:20200308T090000
END:DAYLIGHT
BEGIN:STANDARD
TZOFFSETFROM:-0600
TZOFFSETTO:-0700
TZNAME:MST
DTSTART:20201101T080000
END:STANDARD
BEGIN:DAYLIGHT
TZOFFSETFROM:-0700
TZOFFSETTO:-0600
TZNAME:MDT
DTSTART:20210314T090000
END:DAYLIGHT
BEGIN:STANDARD
TZOFFSETFROM:-0600
TZOFFSETTO:-0700
TZNAME:MST
DTSTART:20211107T080000
END:STANDARD
END:VTIMEZONE
BEGIN:VEVENT
DTSTART;TZID=America/Denver:20201031T150000
DTEND;TZID=America/Denver:20201031T180000
DTSTAMP:20260423T085227
CREATED:20201002T233043Z
LAST-MODIFIED:20201002T233043Z
UID:3568-1604156400-1604167200@theclubatinverness.com
SUMMARY:Celebrate Halloween with The Club at Inverness!
DESCRIPTION:
URL:https://theclubatinverness.com/event/celebrate-halloween-with-the-club-at-inverness/
LOCATION:The Club at Inverness\, 200 Inverness Drive West Suite 100\, Englewood\, CO\, 80112\, United States
CATEGORIES:Social
ORGANIZER;CN="Kelsey Marcum":MAILTO:kmarcum@invernessdenver.com
END:VEVENT
BEGIN:VEVENT
DTSTART;TZID=America/Denver:20201031T160000
DTEND;TZID=America/Denver:20201031T190000
DTSTAMP:20260423T085227
CREATED:20200918T221642Z
LAST-MODIFIED:20200918T221642Z
UID:3535-1604160000-1604170800@theclubatinverness.com
SUMMARY:Live Music
DESCRIPTION:
URL:https://theclubatinverness.com/event/live-music-8/
LOCATION:Aspen Terrace\, 200 Inverness Drive West\, Englewood\, CO\, 80112
CATEGORIES:Breckenridge Brewery Ale & Game House,Social
END:VEVENT
END:VCALENDAR