BEGIN:VCALENDAR
VERSION:2.0
PRODID:-//The Club at Inverness | Golf, Tennis, Dining, Fitness, Spa &amp; Social Events - ECPv6.15.11//NONSGML v1.0//EN
CALSCALE:GREGORIAN
METHOD:PUBLISH
X-WR-CALNAME:The Club at Inverness | Golf, Tennis, Dining, Fitness, Spa &amp; Social Events
X-ORIGINAL-URL:https://theclubatinverness.com
X-WR-CALDESC:Events for The Club at Inverness | Golf, Tennis, Dining, Fitness, Spa &amp; Social Events
REFRESH-INTERVAL;VALUE=DURATION:PT1H
X-Robots-Tag:noindex
X-PUBLISHED-TTL:PT1H
BEGIN:VTIMEZONE
TZID:America/Denver
BEGIN:DAYLIGHT
TZOFFSETFROM:-0700
TZOFFSETTO:-0600
TZNAME:MDT
DTSTART:20200308T090000
END:DAYLIGHT
BEGIN:STANDARD
TZOFFSETFROM:-0600
TZOFFSETTO:-0700
TZNAME:MST
DTSTART:20201101T080000
END:STANDARD
BEGIN:DAYLIGHT
TZOFFSETFROM:-0700
TZOFFSETTO:-0600
TZNAME:MDT
DTSTART:20210314T090000
END:DAYLIGHT
BEGIN:STANDARD
TZOFFSETFROM:-0600
TZOFFSETTO:-0700
TZNAME:MST
DTSTART:20211107T080000
END:STANDARD
BEGIN:DAYLIGHT
TZOFFSETFROM:-0700
TZOFFSETTO:-0600
TZNAME:MDT
DTSTART:20220313T090000
END:DAYLIGHT
BEGIN:STANDARD
TZOFFSETFROM:-0600
TZOFFSETTO:-0700
TZNAME:MST
DTSTART:20221106T080000
END:STANDARD
END:VTIMEZONE
BEGIN:VEVENT
DTSTART;TZID=America/Denver:20210804T160000
DTEND;TZID=America/Denver:20210804T190000
DTSTAMP:20260422T164617
CREATED:20210629T195108Z
LAST-MODIFIED:20210629T195108Z
UID:4060-1628092800-1628103600@theclubatinverness.com
SUMMARY:Live Music
DESCRIPTION:
URL:https://theclubatinverness.com/event/live-music-8-2-2-2-2-2-2-2-2-2-2-2-2-2-2-2/
LOCATION:Aspen Terrace\, 200 Inverness Drive West\, Englewood\, CO\, 80112
CATEGORIES:Breckenridge Brewery Ale & Game House,Social
END:VEVENT
BEGIN:VEVENT
DTSTART;TZID=America/Denver:20210806T160000
DTEND;TZID=America/Denver:20210806T190000
DTSTAMP:20260422T164617
CREATED:20210629T195128Z
LAST-MODIFIED:20210629T195128Z
UID:4062-1628265600-1628276400@theclubatinverness.com
SUMMARY:Live Music
DESCRIPTION:
URL:https://theclubatinverness.com/event/live-music-8-2-2-2-2-2-2-2-2-2-2-2-2-2-2-2-2/
LOCATION:Aspen Terrace\, 200 Inverness Drive West\, Englewood\, CO\, 80112
CATEGORIES:Breckenridge Brewery Ale & Game House,Social
END:VEVENT
BEGIN:VEVENT
DTSTART;TZID=America/Denver:20210811T160000
DTEND;TZID=America/Denver:20210811T190000
DTSTAMP:20260422T164617
CREATED:20210629T195138Z
LAST-MODIFIED:20210629T195148Z
UID:4064-1628697600-1628708400@theclubatinverness.com
SUMMARY:Live Music
DESCRIPTION:
URL:https://theclubatinverness.com/event/live-music-8-2-2-2-2-2-2-2-2-2-2-2-2-2-2-2-2-2/
LOCATION:Aspen Terrace\, 200 Inverness Drive West\, Englewood\, CO\, 80112
CATEGORIES:Breckenridge Brewery Ale & Game House,Social
END:VEVENT
BEGIN:VEVENT
DTSTART;TZID=America/Denver:20210813T160000
DTEND;TZID=America/Denver:20210813T190000
DTSTAMP:20260422T164617
CREATED:20210629T195200Z
LAST-MODIFIED:20210629T195200Z
UID:4066-1628870400-1628881200@theclubatinverness.com
SUMMARY:Live Music
DESCRIPTION:
URL:https://theclubatinverness.com/event/live-music-8-2-2-2-2-2-2-2-2-2-2-2-2-2-2-2-2-2-2/
LOCATION:Aspen Terrace\, 200 Inverness Drive West\, Englewood\, CO\, 80112
CATEGORIES:Breckenridge Brewery Ale & Game House,Social
END:VEVENT
BEGIN:VEVENT
DTSTART;TZID=America/Denver:20210818T160000
DTEND;TZID=America/Denver:20210818T190000
DTSTAMP:20260422T164617
CREATED:20210629T195215Z
LAST-MODIFIED:20210629T195225Z
UID:4068-1629302400-1629313200@theclubatinverness.com
SUMMARY:Live Music
DESCRIPTION:
URL:https://theclubatinverness.com/event/live-music-8-2-2-2-2-2-2-2-2-2-2-2-2-2-2-2-2-2-2-2/
LOCATION:Aspen Terrace\, 200 Inverness Drive West\, Englewood\, CO\, 80112
CATEGORIES:Breckenridge Brewery Ale & Game House,Social
END:VEVENT
BEGIN:VEVENT
DTSTART;TZID=America/Denver:20210820T160000
DTEND;TZID=America/Denver:20210820T190000
DTSTAMP:20260422T164617
CREATED:20210629T195238Z
LAST-MODIFIED:20210629T195238Z
UID:4070-1629475200-1629486000@theclubatinverness.com
SUMMARY:Live Music
DESCRIPTION:
URL:https://theclubatinverness.com/event/live-music-8-2-2-2-2-2-2-2-2-2-2-2-2-2-2-2-2-2-2-2-2/
LOCATION:Aspen Terrace\, 200 Inverness Drive West\, Englewood\, CO\, 80112
CATEGORIES:Breckenridge Brewery Ale & Game House,Social
END:VEVENT
BEGIN:VEVENT
DTSTART;TZID=America/Denver:20210821T160000
DTEND;TZID=America/Denver:20210821T190000
DTSTAMP:20260422T164617
CREATED:20210629T195251Z
LAST-MODIFIED:20210629T195251Z
UID:4072-1629561600-1629572400@theclubatinverness.com
SUMMARY:Live Music
DESCRIPTION:
URL:https://theclubatinverness.com/event/live-music-8-2-2-2-2-2-2-2-2-2-2-2-2-2-2-2-2-2-2-2-2-2/
LOCATION:Aspen Terrace\, 200 Inverness Drive West\, Englewood\, CO\, 80112
CATEGORIES:Breckenridge Brewery Ale & Game House,Social
END:VEVENT
BEGIN:VEVENT
DTSTART;TZID=America/Denver:20210825T160000
DTEND;TZID=America/Denver:20210825T190000
DTSTAMP:20260422T164617
CREATED:20210629T195302Z
LAST-MODIFIED:20210629T195302Z
UID:4074-1629907200-1629918000@theclubatinverness.com
SUMMARY:Live Music
DESCRIPTION:
URL:https://theclubatinverness.com/event/live-music-8-2-2-2-2-2-2-2-2-2-2-2-2-2-2-2-2-2-2-2-2-2-2/
LOCATION:Aspen Terrace\, 200 Inverness Drive West\, Englewood\, CO\, 80112
CATEGORIES:Breckenridge Brewery Ale & Game House,Social
END:VEVENT
BEGIN:VEVENT
DTSTART;TZID=America/Denver:20210827T160000
DTEND;TZID=America/Denver:20210827T190000
DTSTAMP:20260422T164618
CREATED:20210629T195316Z
LAST-MODIFIED:20210629T195316Z
UID:4076-1630080000-1630090800@theclubatinverness.com
SUMMARY:Live Music
DESCRIPTION:
URL:https://theclubatinverness.com/event/live-music-8-2-2-2-2-2-2-2-2-2-2-2-2-2-2-2-2-2-2-2-2-2-3/
LOCATION:Aspen Terrace\, 200 Inverness Drive West\, Englewood\, CO\, 80112
CATEGORIES:Breckenridge Brewery Ale & Game House,Social
END:VEVENT
BEGIN:VEVENT
DTSTART;TZID=America/Denver:20210828T160000
DTEND;TZID=America/Denver:20210828T190000
DTSTAMP:20260422T164618
CREATED:20210629T195326Z
LAST-MODIFIED:20210629T195326Z
UID:4078-1630166400-1630177200@theclubatinverness.com
SUMMARY:Live Music
DESCRIPTION:
URL:https://theclubatinverness.com/event/live-music-8-2-2-2-2-2-2-2-2-2-2-2-2-2-2-2-2-2-2-2-2-2-3-2/
LOCATION:Aspen Terrace\, 200 Inverness Drive West\, Englewood\, CO\, 80112
CATEGORIES:Breckenridge Brewery Ale & Game House,Social
END:VEVENT
END:VCALENDAR