BEGIN:VCALENDAR
VERSION:2.0
PRODID:-//The Club at Inverness | Golf, Tennis, Dining, Fitness, Spa &amp; Social Events - ECPv6.15.11//NONSGML v1.0//EN
CALSCALE:GREGORIAN
METHOD:PUBLISH
X-WR-CALNAME:The Club at Inverness | Golf, Tennis, Dining, Fitness, Spa &amp; Social Events
X-ORIGINAL-URL:https://theclubatinverness.com
X-WR-CALDESC:Events for The Club at Inverness | Golf, Tennis, Dining, Fitness, Spa &amp; Social Events
REFRESH-INTERVAL;VALUE=DURATION:PT1H
X-Robots-Tag:noindex
X-PUBLISHED-TTL:PT1H
BEGIN:VTIMEZONE
TZID:America/Denver
BEGIN:DAYLIGHT
TZOFFSETFROM:-0700
TZOFFSETTO:-0600
TZNAME:MDT
DTSTART:20200308T090000
END:DAYLIGHT
BEGIN:STANDARD
TZOFFSETFROM:-0600
TZOFFSETTO:-0700
TZNAME:MST
DTSTART:20201101T080000
END:STANDARD
BEGIN:DAYLIGHT
TZOFFSETFROM:-0700
TZOFFSETTO:-0600
TZNAME:MDT
DTSTART:20210314T090000
END:DAYLIGHT
BEGIN:STANDARD
TZOFFSETFROM:-0600
TZOFFSETTO:-0700
TZNAME:MST
DTSTART:20211107T080000
END:STANDARD
BEGIN:DAYLIGHT
TZOFFSETFROM:-0700
TZOFFSETTO:-0600
TZNAME:MDT
DTSTART:20220313T090000
END:DAYLIGHT
BEGIN:STANDARD
TZOFFSETFROM:-0600
TZOFFSETTO:-0700
TZNAME:MST
DTSTART:20221106T080000
END:STANDARD
END:VTIMEZONE
BEGIN:VEVENT
DTSTART;TZID=America/Denver:20210115T140000
DTEND;TZID=America/Denver:20210115T190000
DTSTAMP:20260423T034326
CREATED:20210115T194759Z
LAST-MODIFIED:20210115T200032Z
UID:3757-1610719200-1610737200@theclubatinverness.com
SUMMARY:Pasta Night
DESCRIPTION:Join us in Breckenridge Brewery every Friday to pick-up our Pasta Night to-go meal! \nTo order or inquire about this week’s specific menu\, please call 303.397.7801. Orders need to be placed by Thursday at 7:30pm for pick up on Friday between 2:00pm – 7:00pm.
URL:https://theclubatinverness.com/event/pasta-night/
LOCATION:Aspen Terrace\, 200 Inverness Drive West\, Englewood\, CO\, 80112
CATEGORIES:Breckenridge Brewery Ale & Game House,Social
END:VEVENT
BEGIN:VEVENT
DTSTART;TZID=America/Denver:20210117T140000
DTEND;TZID=America/Denver:20210117T190000
DTSTAMP:20260423T034326
CREATED:20210115T200941Z
LAST-MODIFIED:20210115T200941Z
UID:3773-1610892000-1610910000@theclubatinverness.com
SUMMARY:Chicken Dinner Night
DESCRIPTION:Join us in Breckenridge Brewery every Sunday to pick-up our Chicken Dinner to-go meal! \nTo order or inquire about this week’s specific menu\, please call 303.397.7801. Orders need to be placed by Saturday at 7:30pm for pick up on Sunday between 2:00pm – 7:00pm.
URL:https://theclubatinverness.com/event/pasta-night-2-2-2-2-2-2-2/
LOCATION:Aspen Terrace\, 200 Inverness Drive West\, Englewood\, CO\, 80112
CATEGORIES:Breckenridge Brewery Ale & Game House,Social
END:VEVENT
BEGIN:VEVENT
DTSTART;TZID=America/Denver:20210119T140000
DTEND;TZID=America/Denver:20210119T190000
DTSTAMP:20260423T034326
CREATED:20210115T201135Z
LAST-MODIFIED:20210115T201144Z
UID:3787-1611064800-1611082800@theclubatinverness.com
SUMMARY:Margarita Monday Night
DESCRIPTION:Join us in Breckenridge Brewery every Monday to pick-up our Margarita/Mexican Dinner to-go meal! \nTo order or inquire about this week’s specific menu\, please call 303.397.7801. Orders need to be placed by Sunday at 7:30pm for pick up on Monday between 2:00pm – 7:00pm.
URL:https://theclubatinverness.com/event/pasta-night-2-2-2-2-2-2-2-2-2-3-2-2-2/
LOCATION:Aspen Terrace\, 200 Inverness Drive West\, Englewood\, CO\, 80112
CATEGORIES:Breckenridge Brewery Ale & Game House,Social
END:VEVENT
BEGIN:VEVENT
DTSTART;TZID=America/Denver:20210122T140000
DTEND;TZID=America/Denver:20210122T190000
DTSTAMP:20260423T034326
CREATED:20210115T200050Z
LAST-MODIFIED:20210115T200050Z
UID:3761-1611324000-1611342000@theclubatinverness.com
SUMMARY:Pasta Night
DESCRIPTION:Join us in Breckenridge Brewery every Friday to pick-up our Pasta Night to-go meal! \nTo order or inquire about this week’s specific menu\, please call 303.397.7801. Orders need to be placed by Thursday at 7:30pm for pick up on Friday between 2:00pm – 7:00pm.
URL:https://theclubatinverness.com/event/pasta-night-2/
LOCATION:Aspen Terrace\, 200 Inverness Drive West\, Englewood\, CO\, 80112
CATEGORIES:Breckenridge Brewery Ale & Game House,Social
END:VEVENT
BEGIN:VEVENT
DTSTART;TZID=America/Denver:20210124T140000
DTEND;TZID=America/Denver:20210124T190000
DTSTAMP:20260423T034326
CREATED:20210115T200955Z
LAST-MODIFIED:20210115T200955Z
UID:3775-1611496800-1611514800@theclubatinverness.com
SUMMARY:Chicken Dinner Night
DESCRIPTION:Join us in Breckenridge Brewery every Sunday to pick-up our Chicken Dinner to-go meal! \nTo order or inquire about this week’s specific menu\, please call 303.397.7801. Orders need to be placed by Saturday at 7:30pm for pick up on Sunday between 2:00pm – 7:00pm.
URL:https://theclubatinverness.com/event/pasta-night-2-2-2-2-2-2-2-2/
LOCATION:Aspen Terrace\, 200 Inverness Drive West\, Englewood\, CO\, 80112
CATEGORIES:Breckenridge Brewery Ale & Game House,Social
END:VEVENT
BEGIN:VEVENT
DTSTART;TZID=America/Denver:20210126T140000
DTEND;TZID=America/Denver:20210126T190000
DTSTAMP:20260423T034326
CREATED:20210115T201158Z
LAST-MODIFIED:20210115T201158Z
UID:3789-1611669600-1611687600@theclubatinverness.com
SUMMARY:Margarita Monday Night
DESCRIPTION:Join us in Breckenridge Brewery every Monday to pick-up our Margarita/Mexican Dinner to-go meal! \nTo order or inquire about this week’s specific menu\, please call 303.397.7801. Orders need to be placed by Sunday at 7:30pm for pick up on Monday between 2:00pm – 7:00pm.
URL:https://theclubatinverness.com/event/pasta-night-2-2-2-2-2-2-2-2-2-3-2-2-2-2/
LOCATION:Aspen Terrace\, 200 Inverness Drive West\, Englewood\, CO\, 80112
CATEGORIES:Breckenridge Brewery Ale & Game House,Social
END:VEVENT
BEGIN:VEVENT
DTSTART;TZID=America/Denver:20210129T140000
DTEND;TZID=America/Denver:20210129T190000
DTSTAMP:20260423T034326
CREATED:20210115T200128Z
LAST-MODIFIED:20210115T200128Z
UID:3763-1611928800-1611946800@theclubatinverness.com
SUMMARY:Pasta Night
DESCRIPTION:Join us in Breckenridge Brewery every Friday to pick-up our Pasta Night to-go meal! \nTo order or inquire about this week’s specific menu\, please call 303.397.7801. Orders need to be placed by Thursday at 7:30pm for pick up on Friday between 2:00pm – 7:00pm.
URL:https://theclubatinverness.com/event/pasta-night-2-2/
LOCATION:Aspen Terrace\, 200 Inverness Drive West\, Englewood\, CO\, 80112
CATEGORIES:Breckenridge Brewery Ale & Game House,Social
END:VEVENT
END:VCALENDAR