BEGIN:VCALENDAR
VERSION:2.0
PRODID:-//The Club at Inverness | Golf, Tennis, Dining, Fitness, Spa &amp; Social Events - ECPv6.15.11//NONSGML v1.0//EN
CALSCALE:GREGORIAN
METHOD:PUBLISH
X-ORIGINAL-URL:https://theclubatinverness.com
X-WR-CALDESC:Events for The Club at Inverness | Golf, Tennis, Dining, Fitness, Spa &amp; Social Events
REFRESH-INTERVAL;VALUE=DURATION:PT1H
X-Robots-Tag:noindex
X-PUBLISHED-TTL:PT1H
BEGIN:VTIMEZONE
TZID:America/Denver
BEGIN:DAYLIGHT
TZOFFSETFROM:-0700
TZOFFSETTO:-0600
TZNAME:MDT
DTSTART:20180311T090000
END:DAYLIGHT
BEGIN:STANDARD
TZOFFSETFROM:-0600
TZOFFSETTO:-0700
TZNAME:MST
DTSTART:20181104T080000
END:STANDARD
BEGIN:DAYLIGHT
TZOFFSETFROM:-0700
TZOFFSETTO:-0600
TZNAME:MDT
DTSTART:20190310T090000
END:DAYLIGHT
BEGIN:STANDARD
TZOFFSETFROM:-0600
TZOFFSETTO:-0700
TZNAME:MST
DTSTART:20191103T080000
END:STANDARD
BEGIN:DAYLIGHT
TZOFFSETFROM:-0700
TZOFFSETTO:-0600
TZNAME:MDT
DTSTART:20200308T090000
END:DAYLIGHT
BEGIN:STANDARD
TZOFFSETFROM:-0600
TZOFFSETTO:-0700
TZNAME:MST
DTSTART:20201101T080000
END:STANDARD
END:VTIMEZONE
BEGIN:VEVENT
DTSTART;TZID=America/Denver:20190705T170000
DTEND;TZID=America/Denver:20190705T200000
DTSTAMP:20260424T094957
CREATED:20190705T205515Z
LAST-MODIFIED:20190705T205515Z
UID:2396-1562346000-1562356800@theclubatinverness.com
SUMMARY:Live Music @ Breckenridge Brewery Ale & Game House
DESCRIPTION:Come and join us outside on the Breckenridge Brewery patio to listen to some live music!
URL:https://theclubatinverness.com/event/live-music-breckenridge-brewery-ale-game-house/
LOCATION:The Club at Inverness\, 200 Inverness Drive West Suite 100\, Englewood\, CO\, 80112\, United States
CATEGORIES:Breckenridge Brewery Ale & Game House,Social
ATTACH;FMTTYPE=image/jpeg:https://theclubatinverness.com/wp-content/uploads/2019/07/Breckenridge_12_HR.jpg
END:VEVENT
BEGIN:VEVENT
DTSTART;TZID=America/Denver:20190706T200000
DTEND;TZID=America/Denver:20190706T230000
DTSTAMP:20260424T094957
CREATED:20190705T205918Z
LAST-MODIFIED:20190705T210130Z
UID:2417-1562443200-1562454000@theclubatinverness.com
SUMMARY:Live Music @ Breckenridge Brewery Ale & Game House
DESCRIPTION:Come and join us inside the Breckenridge Brewery to listen to some live music!
URL:https://theclubatinverness.com/event/live-music-breckenridge-brewery-ale-game-house-2-2-2-2-2-2-2-2-2-2/
LOCATION:The Club at Inverness\, 200 Inverness Drive West Suite 100\, Englewood\, CO\, 80112\, United States
CATEGORIES:Breckenridge Brewery Ale & Game House,Social
ATTACH;FMTTYPE=image/jpeg:https://theclubatinverness.com/wp-content/uploads/2019/07/Breckenridge_03_HR.jpg
END:VEVENT
BEGIN:VEVENT
DTSTART;TZID=America/Denver:20190710T170000
DTEND;TZID=America/Denver:20190710T200000
DTSTAMP:20260424T094957
CREATED:20190705T205633Z
LAST-MODIFIED:20190705T205633Z
UID:2399-1562778000-1562788800@theclubatinverness.com
SUMMARY:Live Music @ Breckenridge Brewery Ale & Game House
DESCRIPTION:Come and join us outside on the Breckenridge Brewery patio to listen to some live music!
URL:https://theclubatinverness.com/event/live-music-breckenridge-brewery-ale-game-house-2/
LOCATION:The Club at Inverness\, 200 Inverness Drive West Suite 100\, Englewood\, CO\, 80112\, United States
CATEGORIES:Breckenridge Brewery Ale & Game House,Social
ATTACH;FMTTYPE=image/jpeg:https://theclubatinverness.com/wp-content/uploads/2019/07/Breckenridge_12_HR.jpg
END:VEVENT
BEGIN:VEVENT
DTSTART;TZID=America/Denver:20190712T170000
DTEND;TZID=America/Denver:20190712T200000
DTSTAMP:20260424T094957
CREATED:20190705T205654Z
LAST-MODIFIED:20190705T205654Z
UID:2401-1562950800-1562961600@theclubatinverness.com
SUMMARY:Live Music @ Breckenridge Brewery Ale & Game House
DESCRIPTION:Come and join us outside on the Breckenridge Brewery patio to listen to some live music!
URL:https://theclubatinverness.com/event/live-music-breckenridge-brewery-ale-game-house-2-2/
LOCATION:The Club at Inverness\, 200 Inverness Drive West Suite 100\, Englewood\, CO\, 80112\, United States
CATEGORIES:Breckenridge Brewery Ale & Game House,Social
ATTACH;FMTTYPE=image/jpeg:https://theclubatinverness.com/wp-content/uploads/2019/07/Breckenridge_12_HR.jpg
END:VEVENT
BEGIN:VEVENT
DTSTART;TZID=America/Denver:20190713T200000
DTEND;TZID=America/Denver:20190713T230000
DTSTAMP:20260424T094957
CREATED:20190705T205826Z
LAST-MODIFIED:20190705T210333Z
UID:2411-1563048000-1563058800@theclubatinverness.com
SUMMARY:Live Music @ Breckenridge Brewery Ale & Game House
DESCRIPTION:Come and join us inside the Breckenridge Brewery to listen to some live music!
URL:https://theclubatinverness.com/event/live-music-breckenridge-brewery-ale-game-house-2-2-2-2-2-2-2/
LOCATION:The Club at Inverness\, 200 Inverness Drive West Suite 100\, Englewood\, CO\, 80112\, United States
CATEGORIES:Breckenridge Brewery Ale & Game House,Social
ATTACH;FMTTYPE=image/jpeg:https://theclubatinverness.com/wp-content/uploads/2019/07/Breckenridge_03_HR.jpg
END:VEVENT
BEGIN:VEVENT
DTSTART;TZID=America/Denver:20190717T170000
DTEND;TZID=America/Denver:20190717T200000
DTSTAMP:20260424T094957
CREATED:20190705T205709Z
LAST-MODIFIED:20190705T205709Z
UID:2403-1563382800-1563393600@theclubatinverness.com
SUMMARY:Live Music @ Breckenridge Brewery Ale & Game House
DESCRIPTION:Come and join us outside on the Breckenridge Brewery patio to listen to some live music!
URL:https://theclubatinverness.com/event/live-music-breckenridge-brewery-ale-game-house-2-2-2/
LOCATION:The Club at Inverness\, 200 Inverness Drive West Suite 100\, Englewood\, CO\, 80112\, United States
CATEGORIES:Breckenridge Brewery Ale & Game House,Social
ATTACH;FMTTYPE=image/jpeg:https://theclubatinverness.com/wp-content/uploads/2019/07/Breckenridge_12_HR.jpg
END:VEVENT
BEGIN:VEVENT
DTSTART;TZID=America/Denver:20190719T170000
DTEND;TZID=America/Denver:20190719T200000
DTSTAMP:20260424T094957
CREATED:20190705T205723Z
LAST-MODIFIED:20190705T205723Z
UID:2405-1563555600-1563566400@theclubatinverness.com
SUMMARY:Live Music @ Breckenridge Brewery Ale & Game House
DESCRIPTION:Come and join us outside on the Breckenridge Brewery patio to listen to some live music!
URL:https://theclubatinverness.com/event/live-music-breckenridge-brewery-ale-game-house-2-2-2-2/
LOCATION:The Club at Inverness\, 200 Inverness Drive West Suite 100\, Englewood\, CO\, 80112\, United States
CATEGORIES:Breckenridge Brewery Ale & Game House,Social
ATTACH;FMTTYPE=image/jpeg:https://theclubatinverness.com/wp-content/uploads/2019/07/Breckenridge_12_HR.jpg
END:VEVENT
BEGIN:VEVENT
DTSTART;TZID=America/Denver:20190720T200000
DTEND;TZID=America/Denver:20190720T230000
DTSTAMP:20260424T094957
CREATED:20190705T205839Z
LAST-MODIFIED:20190705T210305Z
UID:2413-1563652800-1563663600@theclubatinverness.com
SUMMARY:Live Music @ Breckenridge Brewery Ale & Game House
DESCRIPTION:Come and join us inside the Breckenridge Brewery to listen to some live music!
URL:https://theclubatinverness.com/event/live-music-breckenridge-brewery-ale-game-house-2-2-2-2-2-2-2-2/
LOCATION:The Club at Inverness\, 200 Inverness Drive West Suite 100\, Englewood\, CO\, 80112\, United States
CATEGORIES:Breckenridge Brewery Ale & Game House,Social
ATTACH;FMTTYPE=image/jpeg:https://theclubatinverness.com/wp-content/uploads/2019/07/Breckenridge_03_HR.jpg
END:VEVENT
BEGIN:VEVENT
DTSTART;TZID=America/Denver:20190724T170000
DTEND;TZID=America/Denver:20190724T200000
DTSTAMP:20260424T094957
CREATED:20190705T205738Z
LAST-MODIFIED:20190705T205738Z
UID:2407-1563987600-1563998400@theclubatinverness.com
SUMMARY:Live Music @ Breckenridge Brewery Ale & Game House
DESCRIPTION:Come and join us outside on the Breckenridge Brewery patio to listen to some live music!
URL:https://theclubatinverness.com/event/live-music-breckenridge-brewery-ale-game-house-2-2-2-2-2/
LOCATION:The Club at Inverness\, 200 Inverness Drive West Suite 100\, Englewood\, CO\, 80112\, United States
CATEGORIES:Breckenridge Brewery Ale & Game House,Social
ATTACH;FMTTYPE=image/jpeg:https://theclubatinverness.com/wp-content/uploads/2019/07/Breckenridge_12_HR.jpg
END:VEVENT
BEGIN:VEVENT
DTSTART;TZID=America/Denver:20190726T170000
DTEND;TZID=America/Denver:20190726T200000
DTSTAMP:20260424T094957
CREATED:20190705T205749Z
LAST-MODIFIED:20190705T205749Z
UID:2409-1564160400-1564171200@theclubatinverness.com
SUMMARY:Live Music @ Breckenridge Brewery Ale & Game House
DESCRIPTION:Come and join us outside on the Breckenridge Brewery patio to listen to some live music!
URL:https://theclubatinverness.com/event/live-music-breckenridge-brewery-ale-game-house-2-2-2-2-2-2/
LOCATION:The Club at Inverness\, 200 Inverness Drive West Suite 100\, Englewood\, CO\, 80112\, United States
CATEGORIES:Breckenridge Brewery Ale & Game House,Social
ATTACH;FMTTYPE=image/jpeg:https://theclubatinverness.com/wp-content/uploads/2019/07/Breckenridge_12_HR.jpg
END:VEVENT
BEGIN:VEVENT
DTSTART;TZID=America/Denver:20190727T200000
DTEND;TZID=America/Denver:20190727T230000
DTSTAMP:20260424T094957
CREATED:20190705T205856Z
LAST-MODIFIED:20190705T210407Z
UID:2415-1564257600-1564268400@theclubatinverness.com
SUMMARY:Live Music @ Breckenridge Brewery Ale & Game House
DESCRIPTION:Come and join us inside the Breckenridge Brewery to listen to some live music!
URL:https://theclubatinverness.com/event/live-music-breckenridge-brewery-ale-game-house-2-2-2-2-2-2-2-2-2/
LOCATION:The Club at Inverness\, 200 Inverness Drive West Suite 100\, Englewood\, CO\, 80112\, United States
CATEGORIES:Breckenridge Brewery Ale & Game House,Social
ATTACH;FMTTYPE=image/jpeg:https://theclubatinverness.com/wp-content/uploads/2019/07/Breckenridge_03_HR.jpg
END:VEVENT
END:VCALENDAR