BEGIN:VCALENDAR
VERSION:2.0
PRODID:-//The Club at Inverness | Golf, Tennis, Dining, Fitness, Spa &amp; Social Events - ECPv6.15.11//NONSGML v1.0//EN
CALSCALE:GREGORIAN
METHOD:PUBLISH
X-WR-CALNAME:The Club at Inverness | Golf, Tennis, Dining, Fitness, Spa &amp; Social Events
X-ORIGINAL-URL:https://theclubatinverness.com
X-WR-CALDESC:Events for The Club at Inverness | Golf, Tennis, Dining, Fitness, Spa &amp; Social Events
REFRESH-INTERVAL;VALUE=DURATION:PT1H
X-Robots-Tag:noindex
X-PUBLISHED-TTL:PT1H
BEGIN:VTIMEZONE
TZID:America/Denver
BEGIN:DAYLIGHT
TZOFFSETFROM:-0700
TZOFFSETTO:-0600
TZNAME:MDT
DTSTART:20210314T090000
END:DAYLIGHT
BEGIN:STANDARD
TZOFFSETFROM:-0600
TZOFFSETTO:-0700
TZNAME:MST
DTSTART:20211107T080000
END:STANDARD
BEGIN:DAYLIGHT
TZOFFSETFROM:-0700
TZOFFSETTO:-0600
TZNAME:MDT
DTSTART:20220313T090000
END:DAYLIGHT
BEGIN:STANDARD
TZOFFSETFROM:-0600
TZOFFSETTO:-0700
TZNAME:MST
DTSTART:20221106T080000
END:STANDARD
BEGIN:DAYLIGHT
TZOFFSETFROM:-0700
TZOFFSETTO:-0600
TZNAME:MDT
DTSTART:20230312T090000
END:DAYLIGHT
BEGIN:STANDARD
TZOFFSETFROM:-0600
TZOFFSETTO:-0700
TZNAME:MST
DTSTART:20231105T080000
END:STANDARD
BEGIN:DAYLIGHT
TZOFFSETFROM:-0700
TZOFFSETTO:-0600
TZNAME:MDT
DTSTART:20240310T090000
END:DAYLIGHT
BEGIN:STANDARD
TZOFFSETFROM:-0600
TZOFFSETTO:-0700
TZNAME:MST
DTSTART:20241103T080000
END:STANDARD
BEGIN:DAYLIGHT
TZOFFSETFROM:-0700
TZOFFSETTO:-0600
TZNAME:MDT
DTSTART:20250309T090000
END:DAYLIGHT
BEGIN:STANDARD
TZOFFSETFROM:-0600
TZOFFSETTO:-0700
TZNAME:MST
DTSTART:20251102T080000
END:STANDARD
END:VTIMEZONE
BEGIN:VEVENT
DTSTART;VALUE=DATE:20220315
DTEND;VALUE=DATE:20220316
DTSTAMP:20260425T203007
CREATED:20220218T192214Z
LAST-MODIFIED:20220218T192214Z
UID:4959-1647302400-1647388799@theclubatinverness.com
SUMMARY:March Madness Begins!
DESCRIPTION:Join us all month long for special offers and viewing of all March Madness events at the Breckenridge Brewery Ale & Game House!
URL:https://theclubatinverness.com/event/march-madness-begins/
LOCATION:Breckenridge Brewery Ale & Game House\, 200 Inverness Drive West\, Englewood\, CO\, 80112
CATEGORIES:Breckenridge Brewery Ale & Game House,Social
END:VEVENT
BEGIN:VEVENT
DTSTART;VALUE=DATE:20220317
DTEND;VALUE=DATE:20220318
DTSTAMP:20260425T203007
CREATED:20220218T192103Z
LAST-MODIFIED:20220218T192103Z
UID:4957-1647475200-1647561599@theclubatinverness.com
SUMMARY:Strike Gold in Breckenridge
DESCRIPTION:Check back soon for more information!
URL:https://theclubatinverness.com/event/strike-gold-in-breckenridge/
LOCATION:Breckenridge Brewery Ale & Game House\, 200 Inverness Drive West\, Englewood\, CO\, 80112
CATEGORIES:Breckenridge Brewery Ale & Game House,Social
END:VEVENT
BEGIN:VEVENT
DTSTART;VALUE=DATE:20220402
DTEND;VALUE=DATE:20220403
DTSTAMP:20260425T203007
CREATED:20220218T192358Z
LAST-MODIFIED:20220218T192358Z
UID:4961-1648857600-1648943999@theclubatinverness.com
SUMMARY:March Madness Final Four
DESCRIPTION:
URL:https://theclubatinverness.com/event/march-madness-final-four/
LOCATION:Breckenridge Brewery Ale & Game House\, 200 Inverness Drive West\, Englewood\, CO\, 80112
CATEGORIES:Breckenridge Brewery Ale & Game House
END:VEVENT
BEGIN:VEVENT
DTSTART;VALUE=DATE:20220404
DTEND;VALUE=DATE:20220405
DTSTAMP:20260425T203007
CREATED:20220218T192428Z
LAST-MODIFIED:20220218T192428Z
UID:4963-1649030400-1649116799@theclubatinverness.com
SUMMARY:March Madness NCAA Championship Game
DESCRIPTION:
URL:https://theclubatinverness.com/event/march-madness-ncaa-championship-game/
LOCATION:Breckenridge Brewery Ale & Game House\, 200 Inverness Drive West\, Englewood\, CO\, 80112
CATEGORIES:Breckenridge Brewery Ale & Game House
END:VEVENT
BEGIN:VEVENT
DTSTART;VALUE=DATE:20220407
DTEND;VALUE=DATE:20220411
DTSTAMP:20260425T203007
CREATED:20220218T202031Z
LAST-MODIFIED:20220218T202031Z
UID:4969-1649289600-1649635199@theclubatinverness.com
SUMMARY:The Masters
DESCRIPTION:To celebrate\, Breckenridge Brewery will be running Masters themed food & drink specials beginning Thursday\, April 7th through Sunday\, April 10th from open to close. \nFEATURED SPECIALS\n+ Pimento Cheese Sandwich\n+ Egg Salad Sandwich\n+ BBQ Brisket Sandwich\n+ Fried Chicken Biscuit Sandwich\n+ Peach Ice Cream Sandwich\n+ Chocolate Chip Cookie \n+ John Daley Cocktail\n+ Azalea Cocktail \nWe will be broadcasting The Masters based on the following schedule\, but please make sure to check your Masters app for any updates beyond what we have noted here.
URL:https://theclubatinverness.com/event/the-masters-3/
LOCATION:Breckenridge Brewery Ale & Game House\, 200 Inverness Drive West\, Englewood\, CO\, 80112
CATEGORIES:Breckenridge Brewery Ale & Game House,Social
END:VEVENT
BEGIN:VEVENT
DTSTART;VALUE=DATE:20220619
DTEND;VALUE=DATE:20220620
DTSTAMP:20260425T203007
CREATED:20220218T214248Z
LAST-MODIFIED:20220218T214248Z
UID:4992-1655596800-1655683199@theclubatinverness.com
SUMMARY:Father's Day // US Open
DESCRIPTION:
URL:https://theclubatinverness.com/event/fathers-day-us-open/
LOCATION:Breckenridge Brewery Ale & Game House\, 200 Inverness Drive West\, Englewood\, CO\, 80112
CATEGORIES:Breckenridge Brewery Ale & Game House,Social
END:VEVENT
BEGIN:VEVENT
DTSTART;TZID=America/Denver:20240301T160000
DTEND;TZID=America/Denver:20240310T210000
DTSTAMP:20260425T203007
CREATED:20240228T234023Z
LAST-MODIFIED:20240228T235222Z
UID:6500-1709308800-1710104400@theclubatinverness.com
SUMMARY:Denver Restaurant Week at the Inverness
DESCRIPTION:Indulge in culinary delights during Denver Restaurant Week at Inverness! Elevate your dining experience with an array of delectable dishes crafted to perfection. What makes it even more appetizing? Members enjoy an exclusive 20% off on all food and beverage purchases! Savor the flavors\, relish the ambiance\, and make your reservations for a week-long celebration of exceptional cuisine at the Inverness. It’s not just a meal; it’s a culinary journey crafted especially for you. Bon appétit! \nBreckenridge Brewery \nFireside Bar & Grill
URL:https://theclubatinverness.com/event/denver-restaurant-week-at-the-inverness/
LOCATION:Hilton Denver Inverness\, 200 Inverness Dr W\, Englewood\, CO\, 80112\, United States
CATEGORIES:Breckenridge Brewery Ale & Game House,Fireside Bar & Grill
ATTACH;FMTTYPE=image/png:https://theclubatinverness.com/wp-content/uploads/2024/02/restaurant-week-2024.png
END:VEVENT
END:VCALENDAR