BEGIN:VCALENDAR
VERSION:2.0
PRODID:-//The Club at Inverness | Golf, Tennis, Dining, Fitness, Spa &amp; Social Events - ECPv6.15.11//NONSGML v1.0//EN
CALSCALE:GREGORIAN
METHOD:PUBLISH
X-ORIGINAL-URL:https://theclubatinverness.com
X-WR-CALDESC:Events for The Club at Inverness | Golf, Tennis, Dining, Fitness, Spa &amp; Social Events
REFRESH-INTERVAL;VALUE=DURATION:PT1H
X-Robots-Tag:noindex
X-PUBLISHED-TTL:PT1H
BEGIN:VTIMEZONE
TZID:America/Denver
BEGIN:DAYLIGHT
TZOFFSETFROM:-0700
TZOFFSETTO:-0600
TZNAME:MDT
DTSTART:20190310T090000
END:DAYLIGHT
BEGIN:STANDARD
TZOFFSETFROM:-0600
TZOFFSETTO:-0700
TZNAME:MST
DTSTART:20191103T080000
END:STANDARD
BEGIN:DAYLIGHT
TZOFFSETFROM:-0700
TZOFFSETTO:-0600
TZNAME:MDT
DTSTART:20200308T090000
END:DAYLIGHT
BEGIN:STANDARD
TZOFFSETFROM:-0600
TZOFFSETTO:-0700
TZNAME:MST
DTSTART:20201101T080000
END:STANDARD
BEGIN:DAYLIGHT
TZOFFSETFROM:-0700
TZOFFSETTO:-0600
TZNAME:MDT
DTSTART:20210314T090000
END:DAYLIGHT
BEGIN:STANDARD
TZOFFSETFROM:-0600
TZOFFSETTO:-0700
TZNAME:MST
DTSTART:20211107T080000
END:STANDARD
END:VTIMEZONE
BEGIN:VEVENT
DTSTART;TZID=America/Denver:20200902T110000
DTEND;TZID=America/Denver:20200902T143000
DTSTAMP:20260425T112951
CREATED:20200902T153455Z
LAST-MODIFIED:20200902T153455Z
UID:3445-1599044400-1599057000@theclubatinverness.com
SUMMARY:Labor Day Lunch Celebration
DESCRIPTION:Join us on Labor Day here at The Club at Inverness for a special lunch offering! \nOpen to both Members + Member Guests. \nLunch will begin at 11:00am\, and be served until we run out!
URL:https://theclubatinverness.com/event/labor-day-lunch-celebration/
LOCATION:The Club at Inverness\, 200 Inverness Drive West Suite 100\, Englewood\, CO\, 80112\, United States
CATEGORIES:Breckenridge Brewery Ale & Game House,Social
END:VEVENT
BEGIN:VEVENT
DTSTART;TZID=America/Denver:20200909T160000
DTEND;TZID=America/Denver:20200909T200000
DTSTAMP:20260425T112951
CREATED:20200908T215724Z
LAST-MODIFIED:20200908T215724Z
UID:3455-1599667200-1599681600@theclubatinverness.com
SUMMARY:Burger Madness with Live Music
DESCRIPTION:Join us in the Breckenridge Brewery Ale & Game House for live music and Burger Madness Night every Wednesday starting at 4PM! \nOpen to both Members\, their guests and the general public!
URL:https://theclubatinverness.com/event/burger-madness-with-live-music/
LOCATION:Aspen Terrace\, 200 Inverness Drive West\, Englewood\, CO\, 80112
CATEGORIES:Breckenridge Brewery Ale & Game House
END:VEVENT
BEGIN:VEVENT
DTSTART;TZID=America/Denver:20200916T160000
DTEND;TZID=America/Denver:20200916T200000
DTSTAMP:20260425T112951
CREATED:20200908T215738Z
LAST-MODIFIED:20200908T215738Z
UID:3458-1600272000-1600286400@theclubatinverness.com
SUMMARY:Burger Madness with Live Music
DESCRIPTION:Join us in the Breckenridge Brewery Ale & Game House for live music and Burger Madness Night every Wednesday starting at 4PM! \nOpen to both Members\, their guests and the general public!
URL:https://theclubatinverness.com/event/burger-madness-with-live-music-2/
LOCATION:Aspen Terrace\, 200 Inverness Drive West\, Englewood\, CO\, 80112
CATEGORIES:Breckenridge Brewery Ale & Game House
END:VEVENT
BEGIN:VEVENT
DTSTART;TZID=America/Denver:20200923T160000
DTEND;TZID=America/Denver:20200923T200000
DTSTAMP:20260425T112951
CREATED:20200908T215751Z
LAST-MODIFIED:20200908T215751Z
UID:3460-1600876800-1600891200@theclubatinverness.com
SUMMARY:Burger Madness with Live Music
DESCRIPTION:Join us in the Breckenridge Brewery Ale & Game House for live music and Burger Madness Night every Wednesday starting at 4PM! \nOpen to both Members\, their guests and the general public!
URL:https://theclubatinverness.com/event/burger-madness-with-live-music-2-2/
LOCATION:Aspen Terrace\, 200 Inverness Drive West\, Englewood\, CO\, 80112
CATEGORIES:Breckenridge Brewery Ale & Game House
END:VEVENT
BEGIN:VEVENT
DTSTART;TZID=America/Denver:20200930T160000
DTEND;TZID=America/Denver:20200930T200000
DTSTAMP:20260425T112951
CREATED:20200908T215807Z
LAST-MODIFIED:20200908T215807Z
UID:3462-1601481600-1601496000@theclubatinverness.com
SUMMARY:Burger Madness with Live Music
DESCRIPTION:Join us in the Breckenridge Brewery Ale & Game House for live music and Burger Madness Night every Wednesday starting at 4PM! \nOpen to both Members\, their guests and the general public!
URL:https://theclubatinverness.com/event/burger-madness-with-live-music-2-2-2/
LOCATION:Aspen Terrace\, 200 Inverness Drive West\, Englewood\, CO\, 80112
CATEGORIES:Breckenridge Brewery Ale & Game House
END:VEVENT
END:VCALENDAR