BEGIN:VCALENDAR
VERSION:2.0
PRODID:-//The Club at Inverness | Golf, Tennis, Dining, Fitness, Spa &amp; Social Events - ECPv6.15.11//NONSGML v1.0//EN
CALSCALE:GREGORIAN
METHOD:PUBLISH
X-ORIGINAL-URL:https://theclubatinverness.com
X-WR-CALDESC:Events for The Club at Inverness | Golf, Tennis, Dining, Fitness, Spa &amp; Social Events
REFRESH-INTERVAL;VALUE=DURATION:PT1H
X-Robots-Tag:noindex
X-PUBLISHED-TTL:PT1H
BEGIN:VTIMEZONE
TZID:America/Denver
BEGIN:DAYLIGHT
TZOFFSETFROM:-0700
TZOFFSETTO:-0600
TZNAME:MDT
DTSTART:20220313T090000
END:DAYLIGHT
BEGIN:STANDARD
TZOFFSETFROM:-0600
TZOFFSETTO:-0700
TZNAME:MST
DTSTART:20221106T080000
END:STANDARD
BEGIN:DAYLIGHT
TZOFFSETFROM:-0700
TZOFFSETTO:-0600
TZNAME:MDT
DTSTART:20230312T090000
END:DAYLIGHT
BEGIN:STANDARD
TZOFFSETFROM:-0600
TZOFFSETTO:-0700
TZNAME:MST
DTSTART:20231105T080000
END:STANDARD
BEGIN:DAYLIGHT
TZOFFSETFROM:-0700
TZOFFSETTO:-0600
TZNAME:MDT
DTSTART:20240310T090000
END:DAYLIGHT
BEGIN:STANDARD
TZOFFSETFROM:-0600
TZOFFSETTO:-0700
TZNAME:MST
DTSTART:20241103T080000
END:STANDARD
END:VTIMEZONE
BEGIN:VEVENT
DTSTART;TZID=America/Denver:20230917T160000
DTEND;TZID=America/Denver:20230917T170000
DTSTAMP:20260422T212809
CREATED:20230812T175915Z
LAST-MODIFIED:20230812T175915Z
UID:6369-1694966400-1694970000@theclubatinverness.com
SUMMARY:Puppy Pool Pawty
DESCRIPTION:Looking for a wagging good time? \nCome to our first Puppy Pool Pawty! The outdoor pool will be closed down for a dog only party before it is closed for the season. All dogs and humans are welcome to join. Pet owners are responsible for dogs behavior and clean-up. \n 
URL:https://theclubatinverness.com/event/puppy-pool-pawty/
LOCATION:Outdoor Pool
END:VEVENT
END:VCALENDAR