BEGIN:VCALENDAR
VERSION:2.0
PRODID:-//The Club at Inverness | Golf, Tennis, Dining, Fitness, Spa &amp; Social Events - ECPv6.15.11//NONSGML v1.0//EN
CALSCALE:GREGORIAN
METHOD:PUBLISH
X-WR-CALNAME:The Club at Inverness | Golf, Tennis, Dining, Fitness, Spa &amp; Social Events
X-ORIGINAL-URL:https://theclubatinverness.com
X-WR-CALDESC:Events for The Club at Inverness | Golf, Tennis, Dining, Fitness, Spa &amp; Social Events
REFRESH-INTERVAL;VALUE=DURATION:PT1H
X-Robots-Tag:noindex
X-PUBLISHED-TTL:PT1H
BEGIN:VTIMEZONE
TZID:America/Denver
BEGIN:DAYLIGHT
TZOFFSETFROM:-0700
TZOFFSETTO:-0600
TZNAME:MDT
DTSTART:20220313T090000
END:DAYLIGHT
BEGIN:STANDARD
TZOFFSETFROM:-0600
TZOFFSETTO:-0700
TZNAME:MST
DTSTART:20221106T080000
END:STANDARD
BEGIN:DAYLIGHT
TZOFFSETFROM:-0700
TZOFFSETTO:-0600
TZNAME:MDT
DTSTART:20230312T090000
END:DAYLIGHT
BEGIN:STANDARD
TZOFFSETFROM:-0600
TZOFFSETTO:-0700
TZNAME:MST
DTSTART:20231105T080000
END:STANDARD
BEGIN:DAYLIGHT
TZOFFSETFROM:-0700
TZOFFSETTO:-0600
TZNAME:MDT
DTSTART:20240310T090000
END:DAYLIGHT
BEGIN:STANDARD
TZOFFSETFROM:-0600
TZOFFSETTO:-0700
TZNAME:MST
DTSTART:20241103T080000
END:STANDARD
END:VTIMEZONE
BEGIN:VEVENT
DTSTART;TZID=America/Denver:20230903T110000
DTEND;TZID=America/Denver:20230903T120000
DTSTAMP:20260422T212415
CREATED:20230810T173941Z
LAST-MODIFIED:20230810T173941Z
UID:6356-1693738800-1693742400@theclubatinverness.com
SUMMARY:BBQ 102 with Tommy
DESCRIPTION:Join Tommy for BBQ 102 on Sunday\, September 3rd at 11:00am at Centennial Gardens. \nThis time Tommy will be diving into more details and additional tips and tricks of barbecuing with an overview of different smoking methods and barbecuing techniques for beef\, pork\, and chicken. After the class\, everyone will get to enjoy delicious BBQ! \nRegister on the Club Central App or email Amy at abeman@invernessdenver.com.
URL:https://theclubatinverness.com/event/bbq-102-with-tommy/
LOCATION:Centennial Gardens
END:VEVENT
END:VCALENDAR