BEGIN:VCALENDAR
VERSION:2.0
PRODID:-//The Club at Inverness | Golf, Tennis, Dining, Fitness, Spa &amp; Social Events - ECPv6.15.11//NONSGML v1.0//EN
CALSCALE:GREGORIAN
METHOD:PUBLISH
X-ORIGINAL-URL:https://theclubatinverness.com
X-WR-CALDESC:Events for The Club at Inverness | Golf, Tennis, Dining, Fitness, Spa &amp; Social Events
REFRESH-INTERVAL;VALUE=DURATION:PT1H
X-Robots-Tag:noindex
X-PUBLISHED-TTL:PT1H
BEGIN:VTIMEZONE
TZID:America/Denver
BEGIN:DAYLIGHT
TZOFFSETFROM:-0700
TZOFFSETTO:-0600
TZNAME:MDT
DTSTART:20200308T090000
END:DAYLIGHT
BEGIN:STANDARD
TZOFFSETFROM:-0600
TZOFFSETTO:-0700
TZNAME:MST
DTSTART:20201101T080000
END:STANDARD
BEGIN:DAYLIGHT
TZOFFSETFROM:-0700
TZOFFSETTO:-0600
TZNAME:MDT
DTSTART:20210314T090000
END:DAYLIGHT
BEGIN:STANDARD
TZOFFSETFROM:-0600
TZOFFSETTO:-0700
TZNAME:MST
DTSTART:20211107T080000
END:STANDARD
BEGIN:DAYLIGHT
TZOFFSETFROM:-0700
TZOFFSETTO:-0600
TZNAME:MDT
DTSTART:20220313T090000
END:DAYLIGHT
BEGIN:STANDARD
TZOFFSETFROM:-0600
TZOFFSETTO:-0700
TZNAME:MST
DTSTART:20221106T080000
END:STANDARD
END:VTIMEZONE
BEGIN:VEVENT
DTSTART;TZID=America/Denver:20210716T160000
DTEND;TZID=America/Denver:20210716T190000
DTSTAMP:20260423T024303
CREATED:20210629T194927Z
LAST-MODIFIED:20210629T194927Z
UID:4044-1626451200-1626462000@theclubatinverness.com
SUMMARY:Live Music
DESCRIPTION:
URL:https://theclubatinverness.com/event/live-music-8-2-2-2-2-2-2-2/
LOCATION:Aspen Terrace\, 200 Inverness Drive West\, Englewood\, CO\, 80112
CATEGORIES:Breckenridge Brewery Ale & Game House,Social
END:VEVENT
BEGIN:VEVENT
DTSTART;TZID=America/Denver:20210716T200000
DTEND;TZID=America/Denver:20210716T200000
DTSTAMP:20260423T024303
CREATED:20210701T140743Z
LAST-MODIFIED:20210701T140811Z
UID:4085-1626465600-1626465600@theclubatinverness.com
SUMMARY:Movie Night on the Range
DESCRIPTION:
URL:https://theclubatinverness.com/event/movie-night-on-the-range-4/
LOCATION:The Club at Inverness\, 200 Inverness Drive West Suite 100\, Englewood\, CO\, 80112\, United States
CATEGORIES:Social
END:VEVENT
END:VCALENDAR