BEGIN:VCALENDAR
VERSION:2.0
PRODID:-//The Club at Inverness | Golf, Tennis, Dining, Fitness, Spa &amp; Social Events - ECPv6.15.11//NONSGML v1.0//EN
CALSCALE:GREGORIAN
METHOD:PUBLISH
X-WR-CALNAME:The Club at Inverness | Golf, Tennis, Dining, Fitness, Spa &amp; Social Events
X-ORIGINAL-URL:https://theclubatinverness.com
X-WR-CALDESC:Events for The Club at Inverness | Golf, Tennis, Dining, Fitness, Spa &amp; Social Events
REFRESH-INTERVAL;VALUE=DURATION:PT1H
X-Robots-Tag:noindex
X-PUBLISHED-TTL:PT1H
BEGIN:VTIMEZONE
TZID:America/Denver
BEGIN:DAYLIGHT
TZOFFSETFROM:-0700
TZOFFSETTO:-0600
TZNAME:MDT
DTSTART:20190310T090000
END:DAYLIGHT
BEGIN:STANDARD
TZOFFSETFROM:-0600
TZOFFSETTO:-0700
TZNAME:MST
DTSTART:20191103T080000
END:STANDARD
BEGIN:DAYLIGHT
TZOFFSETFROM:-0700
TZOFFSETTO:-0600
TZNAME:MDT
DTSTART:20200308T090000
END:DAYLIGHT
BEGIN:STANDARD
TZOFFSETFROM:-0600
TZOFFSETTO:-0700
TZNAME:MST
DTSTART:20201101T080000
END:STANDARD
BEGIN:DAYLIGHT
TZOFFSETFROM:-0700
TZOFFSETTO:-0600
TZNAME:MDT
DTSTART:20210314T090000
END:DAYLIGHT
BEGIN:STANDARD
TZOFFSETFROM:-0600
TZOFFSETTO:-0700
TZNAME:MST
DTSTART:20211107T080000
END:STANDARD
END:VTIMEZONE
BEGIN:VEVENT
DTSTART;TZID=America/Denver:20201220T140000
DTEND;TZID=America/Denver:20201220T190000
DTSTAMP:20260423T040850
CREATED:20201215T174130Z
LAST-MODIFIED:20201215T174130Z
UID:3672-1608472800-1608490800@theclubatinverness.com
SUMMARY:Sunday Dinner To-Go Menu
DESCRIPTION:Breckenridge Brewery will be offering the following menu to-go style. Order by calling directly at 303.397.7801 and schedule your pick-up between 2pm – 7pm!  Check back each week to see our new menu. Open to both Members of The Club at Inverness and the public. \nSunday Dinner | December 20th\, 2020 \nCost: $40.00 (4.25% tax) | Serves 2 People \nCost: $65.00 (4.25% tax) | Serves 4 People  \n+ Garden Salad with Balsamic Vinaigrette\n+ Herb Roasted Chicken\n+ Roasted Fingerling Potatoes with Caramelized Red Onion\n+ Roasted Cauliflower and Green Beans\n+ Carrot Cake
URL:https://theclubatinverness.com/event/family-friday-to-go-menu-2/
LOCATION:Aspen Terrace\, 200 Inverness Drive West\, Englewood\, CO\, 80112
END:VEVENT
END:VCALENDAR