BEGIN:VCALENDAR
VERSION:2.0
PRODID:-//The Club at Inverness | Golf, Tennis, Dining, Fitness, Spa &amp; Social Events - ECPv6.15.11//NONSGML v1.0//EN
CALSCALE:GREGORIAN
METHOD:PUBLISH
X-ORIGINAL-URL:https://theclubatinverness.com
X-WR-CALDESC:Events for The Club at Inverness | Golf, Tennis, Dining, Fitness, Spa &amp; Social Events
REFRESH-INTERVAL;VALUE=DURATION:PT1H
X-Robots-Tag:noindex
X-PUBLISHED-TTL:PT1H
BEGIN:VTIMEZONE
TZID:America/Denver
BEGIN:DAYLIGHT
TZOFFSETFROM:-0700
TZOFFSETTO:-0600
TZNAME:MDT
DTSTART:20190310T090000
END:DAYLIGHT
BEGIN:STANDARD
TZOFFSETFROM:-0600
TZOFFSETTO:-0700
TZNAME:MST
DTSTART:20191103T080000
END:STANDARD
BEGIN:DAYLIGHT
TZOFFSETFROM:-0700
TZOFFSETTO:-0600
TZNAME:MDT
DTSTART:20200308T090000
END:DAYLIGHT
BEGIN:STANDARD
TZOFFSETFROM:-0600
TZOFFSETTO:-0700
TZNAME:MST
DTSTART:20201101T080000
END:STANDARD
BEGIN:DAYLIGHT
TZOFFSETFROM:-0700
TZOFFSETTO:-0600
TZNAME:MDT
DTSTART:20210314T090000
END:DAYLIGHT
BEGIN:STANDARD
TZOFFSETFROM:-0600
TZOFFSETTO:-0700
TZNAME:MST
DTSTART:20211107T080000
END:STANDARD
END:VTIMEZONE
BEGIN:VEVENT
DTSTART;TZID=America/Denver:20201129T110000
DTEND;TZID=America/Denver:20201129T140000
DTSTAMP:20260423T153302
CREATED:20201106T231230Z
LAST-MODIFIED:20201112T222819Z
UID:3609-1606647600-1606658400@theclubatinverness.com
SUMMARY:Sunday Brunch
DESCRIPTION:Join us for our new Sunday Brunch\, which will offer a plated menu only. Sunday Brunch seating will be available each Sunday from 11am – 2pm. \nFor Reservations: Please call 303.397.6411 and leave a voicemail message with your name\, member number (if applicable)\, and the best phone number to reach you directly. Our Restaurant Manager will call you within 48 hours to confirm availability and gain additional information regarding your reservation. \n 
URL:https://theclubatinverness.com/event/sunday-brunch-2-2-2/
LOCATION:Garden Terrace\, 200 Inverness Dr W\, Englewood\, CO\, 801125200
END:VEVENT
END:VCALENDAR