BEGIN:VCALENDAR
VERSION:2.0
PRODID:-//The Club at Inverness | Golf, Tennis, Dining, Fitness, Spa &amp; Social Events - ECPv6.15.11//NONSGML v1.0//EN
CALSCALE:GREGORIAN
METHOD:PUBLISH
X-WR-CALNAME:The Club at Inverness | Golf, Tennis, Dining, Fitness, Spa &amp; Social Events
X-ORIGINAL-URL:https://theclubatinverness.com
X-WR-CALDESC:Events for The Club at Inverness | Golf, Tennis, Dining, Fitness, Spa &amp; Social Events
REFRESH-INTERVAL;VALUE=DURATION:PT1H
X-Robots-Tag:noindex
X-PUBLISHED-TTL:PT1H
BEGIN:VTIMEZONE
TZID:America/Denver
BEGIN:DAYLIGHT
TZOFFSETFROM:-0700
TZOFFSETTO:-0600
TZNAME:MDT
DTSTART:20190310T090000
END:DAYLIGHT
BEGIN:STANDARD
TZOFFSETFROM:-0600
TZOFFSETTO:-0700
TZNAME:MST
DTSTART:20191103T080000
END:STANDARD
BEGIN:DAYLIGHT
TZOFFSETFROM:-0700
TZOFFSETTO:-0600
TZNAME:MDT
DTSTART:20200308T090000
END:DAYLIGHT
BEGIN:STANDARD
TZOFFSETFROM:-0600
TZOFFSETTO:-0700
TZNAME:MST
DTSTART:20201101T080000
END:STANDARD
BEGIN:DAYLIGHT
TZOFFSETFROM:-0700
TZOFFSETTO:-0600
TZNAME:MDT
DTSTART:20210314T090000
END:DAYLIGHT
BEGIN:STANDARD
TZOFFSETFROM:-0600
TZOFFSETTO:-0700
TZNAME:MST
DTSTART:20211107T080000
END:STANDARD
END:VTIMEZONE
BEGIN:VEVENT
DTSTART;VALUE=DATE:20201126
DTEND;VALUE=DATE:20201127
DTSTAMP:20260423T153303
CREATED:20200924T155759Z
LAST-MODIFIED:20200924T155759Z
UID:3550-1606348800-1606435199@theclubatinverness.com
SUMMARY:Closed | Pro Shop & Golf Course
DESCRIPTION:
URL:https://theclubatinverness.com/event/closed-pro-shop-golf-course/
LOCATION:The Club at Inverness\, 200 Inverness Drive West Suite 100\, Englewood\, CO\, 80112\, United States
END:VEVENT
BEGIN:VEVENT
DTSTART;TZID=America/Denver:20201126T110000
DTEND;TZID=America/Denver:20201126T143000
DTSTAMP:20260423T153303
CREATED:20201021T183736Z
LAST-MODIFIED:20201119T155640Z
UID:3580-1606388400-1606401000@theclubatinverness.com
SUMMARY:Thanksgiving Day Brunch
DESCRIPTION:We are pleased to share our offering for a to-go Thanksgiving Day Brunch this year! Please call 303.397.6411 to request an order\, and should you need to leave a voice message please include your name\, Member number and phone number. Our Restaurant Manager will confirm availability with you within 48 hours. We look forward to the opportunity in being a part of your more than likely non-traditional celebration this year!
URL:https://theclubatinverness.com/event/thanksgiving-day-brunch/
LOCATION:Garden Terrace\, 200 Inverness Dr W\, Englewood\, CO\, 801125200
END:VEVENT
END:VCALENDAR