BEGIN:VCALENDAR
VERSION:2.0
PRODID:-//The Club at Inverness | Golf, Tennis, Dining, Fitness, Spa &amp; Social Events - ECPv6.15.11//NONSGML v1.0//EN
CALSCALE:GREGORIAN
METHOD:PUBLISH
X-WR-CALNAME:The Club at Inverness | Golf, Tennis, Dining, Fitness, Spa &amp; Social Events
X-ORIGINAL-URL:https://theclubatinverness.com
X-WR-CALDESC:Events for The Club at Inverness | Golf, Tennis, Dining, Fitness, Spa &amp; Social Events
REFRESH-INTERVAL;VALUE=DURATION:PT1H
X-Robots-Tag:noindex
X-PUBLISHED-TTL:PT1H
BEGIN:VTIMEZONE
TZID:America/Denver
BEGIN:DAYLIGHT
TZOFFSETFROM:-0700
TZOFFSETTO:-0600
TZNAME:MDT
DTSTART:20190310T090000
END:DAYLIGHT
BEGIN:STANDARD
TZOFFSETFROM:-0600
TZOFFSETTO:-0700
TZNAME:MST
DTSTART:20191103T080000
END:STANDARD
BEGIN:DAYLIGHT
TZOFFSETFROM:-0700
TZOFFSETTO:-0600
TZNAME:MDT
DTSTART:20200308T090000
END:DAYLIGHT
BEGIN:STANDARD
TZOFFSETFROM:-0600
TZOFFSETTO:-0700
TZNAME:MST
DTSTART:20201101T080000
END:STANDARD
BEGIN:DAYLIGHT
TZOFFSETFROM:-0700
TZOFFSETTO:-0600
TZNAME:MDT
DTSTART:20210314T090000
END:DAYLIGHT
BEGIN:STANDARD
TZOFFSETFROM:-0600
TZOFFSETTO:-0700
TZNAME:MST
DTSTART:20211107T080000
END:STANDARD
END:VTIMEZONE
BEGIN:VEVENT
DTSTART;TZID=America/Denver:20201113T110000
DTEND;TZID=America/Denver:20201113T153000
DTSTAMP:20260423T053549
CREATED:20201109T233038Z
LAST-MODIFIED:20201109T233038Z
UID:3616-1605265200-1605281400@theclubatinverness.com
SUMMARY:The Masters
DESCRIPTION:To celebrate\, Breckenridge Brewery will be running Masters themed food & drink specials beginning Thursday\, November 12th through Sunday\, November 15th from open to close. \nFEATURED SPECIALS\n+ Pimento Cheese Sandwich\n+ Egg Salad Sandwich\n+ BBQ Brisket Sandwich\n+ Fried Chicken Biscuit Sandwich\n+ Peach Ice Cream Sandwich\n+ Chocolate Chip Cookie \n+ John Daley Cocktail\n+ Azalea Cocktail  \nWe will be broadcasting The Masters based on the following schedule\, but please make sure to check your Masters app for any updates beyond what we have noted here. \nThursday\, 11:00am – 3:30pm – On ESPN  •  Breckenridge will be open 11am – 10pm\nFriday\, 11:00am – 3:30pm – On ESPN  •  Breckenridge will be open 11am – 11pm\nSaturday\, 11:00am – 3:00pm – On CBS   •  Breckenridge will be open 11am – 11pm\nSunday\, 9:30am – 1:00pm – On CBS Breckenridge will be opening early at 9:30am – 10pm
URL:https://theclubatinverness.com/event/the-masters-2/
LOCATION:Aspen Terrace\, 200 Inverness Drive West\, Englewood\, CO\, 80112
CATEGORIES:Breckenridge Brewery Ale & Game House,Social
END:VEVENT
BEGIN:VEVENT
DTSTART;TZID=America/Denver:20201113T110000
DTEND;TZID=America/Denver:20201122T220000
DTSTAMP:20260423T053549
CREATED:20201112T224832Z
LAST-MODIFIED:20201112T224832Z
UID:3622-1605265200-1606082400@theclubatinverness.com
SUMMARY:Denver Restaurant Week Fall 2020
DESCRIPTION:Join us in the Breckenridge Brewery Ale & Game House is participating in a special edition of Denver Restaurant Week! Beginning tomorrow\, November 13th through the 22nd we will be offering a $25.00 per person menu that includes a choice of one appetizer\, one entrée and one pint of beer. \n\n  \n  \n  \n  \n  \n  \n  \n 
URL:https://theclubatinverness.com/event/denver-restaurant-week-fall-2020/
LOCATION:Aspen Terrace\, 200 Inverness Drive West\, Englewood\, CO\, 80112
CATEGORIES:Breckenridge Brewery Ale & Game House
END:VEVENT
END:VCALENDAR