BEGIN:VCALENDAR
VERSION:2.0
PRODID:-//The Club at Inverness | Golf, Tennis, Dining, Fitness, Spa &amp; Social Events - ECPv6.15.11//NONSGML v1.0//EN
CALSCALE:GREGORIAN
METHOD:PUBLISH
X-ORIGINAL-URL:https://theclubatinverness.com
X-WR-CALDESC:Events for The Club at Inverness | Golf, Tennis, Dining, Fitness, Spa &amp; Social Events
REFRESH-INTERVAL;VALUE=DURATION:PT1H
X-Robots-Tag:noindex
X-PUBLISHED-TTL:PT1H
BEGIN:VTIMEZONE
TZID:America/Denver
BEGIN:DAYLIGHT
TZOFFSETFROM:-0700
TZOFFSETTO:-0600
TZNAME:MDT
DTSTART:20190310T090000
END:DAYLIGHT
BEGIN:STANDARD
TZOFFSETFROM:-0600
TZOFFSETTO:-0700
TZNAME:MST
DTSTART:20191103T080000
END:STANDARD
BEGIN:DAYLIGHT
TZOFFSETFROM:-0700
TZOFFSETTO:-0600
TZNAME:MDT
DTSTART:20200308T090000
END:DAYLIGHT
BEGIN:STANDARD
TZOFFSETFROM:-0600
TZOFFSETTO:-0700
TZNAME:MST
DTSTART:20201101T080000
END:STANDARD
BEGIN:DAYLIGHT
TZOFFSETFROM:-0700
TZOFFSETTO:-0600
TZNAME:MDT
DTSTART:20210314T090000
END:DAYLIGHT
BEGIN:STANDARD
TZOFFSETFROM:-0600
TZOFFSETTO:-0700
TZNAME:MST
DTSTART:20211107T080000
END:STANDARD
END:VTIMEZONE
BEGIN:VEVENT
DTSTART;VALUE=DATE:20200926
DTEND;VALUE=DATE:20200927
DTSTAMP:20260423T190902
CREATED:20200913T192903Z
LAST-MODIFIED:20200913T192903Z
UID:3498-1601078400-1601164799@theclubatinverness.com
SUMMARY:Men's Club | Red Tee Challenge
DESCRIPTION:Morning Men’s Club Event open to Platinum + Gold Members \nTo sign up\, please stop by the Pro Shop or go online through Foretees \nDeadline to Sign Up is Wednesday\, September 23rd
URL:https://theclubatinverness.com/event/mens-club-red-tee-challenge/
LOCATION:The Club at Inverness\, 200 Inverness Drive West Suite 100\, Englewood\, CO\, 80112\, United States
CATEGORIES:Golf,Men's Club
END:VEVENT
END:VCALENDAR